BEGIN:VCALENDAR
VERSION:2.0
PRODID:-//ChamberMaster//Event Calendar 2.0//EN
METHOD:PUBLISH
X-PUBLISHED-TTL:P3D
REFRESH-INTERVAL:P3D
CALSCALE:GREGORIAN
BEGIN:VEVENT
DTSTART:20190317T143000Z
DTEND:20190318T020000Z
X-MICROSOFT-CDO-ALLDAYEVENT:FALSE
SUMMARY:Wild Mountain Ski & Snowboard Area Scout & 4H Days
DESCRIPTION:Discounts for Scouts and their families.\n\nLift Ticket Adult - $28\n\nLift Ticket Childer (6-12) - $22\n\nSki or Snowboard Rental - $21\n\nFirst Time Beginner Lessons are offered at 1 pm \n\n24 HOUR ADVANCE RESERVATIONS ARE REQUIRED\n\nhttps://fareharbor.com/wildmountainskiandsnowboard/items/72963/
X-ALT-DESC;FMTTYPE=text/html:Discounts for Scouts and their families.<br />\nLift Ticket Adult - $28<br />\nLift Ticket Childer (6-12) - $22<br />\nSki or Snowboard Rental - $21<br />\nFirst Time Beginner Lessons are offered at 1 pm&nbsp\;<br />\n<strong>24 HOUR ADVANCE RESERVATIONS ARE REQUIRED<br />\n<a href="https://fareharbor.com/wildmountainskiandsnowboard/items/72963/">https://fareharbor.com/wildmountainskiandsnowboard/items/72963/</a></strong>
LOCATION:37200 Wild Mountain Rd\, Taylors Falls\, MN 55084
UID:e.380.188173
SEQUENCE:3
DTSTAMP:20260420T060639Z
URL:http://members.metronorthchamber.org/events/details/wild-mountain-ski-snowboard-area-scout-4h-days-03-17-2019-188173
END:VEVENT

END:VCALENDAR
