BEGIN:VCALENDAR
VERSION:2.0
PRODID:-//ChamberMaster//Event Calendar 2.0//EN
METHOD:PUBLISH
X-PUBLISHED-TTL:P3D
REFRESH-INTERVAL:P3D
CALSCALE:GREGORIAN
BEGIN:VEVENT
DTSTART:20190308T160000Z
DTEND:20190309T030000Z
X-MICROSOFT-CDO-ALLDAYEVENT:FALSE
SUMMARY:Wild Mountain Mid-Week Ski & Snowboard Special
DESCRIPTION:Heading into Spring with a ton of snow\n\nPlanning a staycation for Spring Beak? \n\nSpend some time on the slopes and save big! \n\nMust Book Online For Discounts
X-ALT-DESC;FMTTYPE=text/html:<h1 style="text-align:center"><span style="font-family:arial black\,avant garde\,arial\,sans-serif">Heading into Spring with a ton of snow</span></h1>\n\n<p style="text-align:center"><span style="font-family:arial black\,avant garde\,arial\,sans-serif\; font-size:16px">Planning a staycation for Spring Beak?&nbsp\;</span></p>\n\n<p style="text-align:center"><span style="font-family:arial black\,avant garde\,arial\,sans-serif\; font-size:16px">Spend some time on the slopes and save big!&nbsp\;<br />\n<a href="https://fareharbor.com/embeds/book/wildmountainskiandsnowboard/items/131856/?full-items=yes&amp\;flow=102097">Must Book Online For Discounts</a></span></p>\n
LOCATION:Wild Mountain Ski & Snowboard Area
UID:e.380.188477
SEQUENCE:3
DTSTAMP:20260420T074030Z
URL:http://members.metronorthchamber.org/events/details/wild-mountain-mid-week-ski-snowboard-special-03-08-2019-188477
END:VEVENT

END:VCALENDAR
