BEGIN:VCALENDAR
VERSION:2.0
PRODID:-//ChamberMaster//Event Calendar 2.0//EN
METHOD:PUBLISH
X-PUBLISHED-TTL:P3D
REFRESH-INTERVAL:P3D
CALSCALE:GREGORIAN
BEGIN:VEVENT
DTSTART:20190302T230000Z
DTEND:20190303T030000Z
X-MICROSOFT-CDO-ALLDAYEVENT:FALSE
SUMMARY:Wild Chutes Snow Tubing - Starlight Snow Tubing
DESCRIPTION:Tubing with a TWIST\n\nStarlight Tubing at Wild Chutes is a glowing family fun adventure! The festivities start at 5:00 pm when we turn off floodlights\, and light up the night with "hundreds" of sparkling lights. Our specially formulated tubing lanes are individually lit by multicolored LED batons. Observe the brilliant lights shining off the hill on your effortless ride to the top on our conveyor lift. Come to join the fun\, easy\, and electric experience that will shine compared to sliding in your backyard.\n\nNo experience or special equipment is needed. Just hop in your snow tube and enjoy the ride!
X-ALT-DESC;FMTTYPE=text/html:<h3><strong>Tubing with a TWIST</strong></h3>\n\n<p><span style="font-size:14px">Starlight Tubing at Wild Chutes is a glowing family fun adventure! The festivities start at 5:00 pm when we turn off floodlights\, and light up the night with &ldquo\;hundreds&rdquo\; of sparkling lights. Our specially formulated tubing lanes are individually lit by multicolored LED batons. Observe the brilliant lights shining off the hill on your effortless ride to the top on our conveyor lift. Come to join the fun\, easy\, and electric experience that will shine compared to sliding in your backyard.</span></p>\n\n<p><span style="font-size:14px">No experience or special equipment is needed. Just hop in your snow tube and enjoy the ride!</span></p>\n
LOCATION:Wild Chutes Snow Tubing 37200 Wild Mountain Rd\, Taylors Falls\, MN 55084
UID:e.380.188169
SEQUENCE:3
DTSTAMP:20260420T074409Z
URL:http://members.metronorthchamber.org/events/details/wild-chutes-snow-tubing-starlight-snow-tubing-03-02-2019-188169
END:VEVENT

END:VCALENDAR
