BEGIN:VCALENDAR
VERSION:2.0
PRODID:-//ChamberMaster//Event Calendar 2.0//EN
METHOD:PUBLISH
X-PUBLISHED-TTL:P3D
REFRESH-INTERVAL:P3D
CALSCALE:GREGORIAN
BEGIN:VEVENT
DTSTART:20170225T160000Z
DTEND:20170225T164500Z
X-MICROSOFT-CDO-ALLDAYEVENT:FALSE
SUMMARY:Why use a Personal Trainer?
DESCRIPTION:It's a gym....I've got a magazine (or 10) subscription....I've got buddies that workout....I worked out in High school....so Why the Heck would I use a Personal Trainer????\n\n\n\nBecause magazines are pretty general\, your buddies may have been lifting incorrectly\, High school was a long time ago.....\n\nand\n\nPersonal Trainers can help you not get hurt\, customize workouts to your body\, goals or injuries and will tell you exactly how many rep and sets you should do....and.....well\, we are a ton of FUN!!
X-ALT-DESC;FMTTYPE=text/html:It&#39\;s a gym....I&#39\;ve got a magazine (or 10) subscription....I&#39\;ve got buddies that workout....I worked out in High school....so Why the Heck would I use a Personal Trainer????<br />\n<br />\nBecause magazines are pretty general\, your buddies may have been lifting incorrectly\, High school was a long time ago.....<br />\nand<br />\nPersonal Trainers can help you not get hurt\, customize workouts to your body\, goals or injuries and will tell you exactly how many rep and sets you should do....and.....well\, we are a ton of FUN!!
LOCATION:Anytime FitnessHam Lake 1321 Andover Blvd NE Ham Lake MN 55304
UID:e.380.171719
SEQUENCE:3
DTSTAMP:20260421T203422Z
URL:http://members.metronorthchamber.org/events/details/why-use-a-personal-trainer-171719
END:VEVENT

END:VCALENDAR
