BEGIN:VCALENDAR
VERSION:2.0
PRODID:-//ChamberMaster//Event Calendar 2.0//EN
METHOD:PUBLISH
X-PUBLISHED-TTL:P3D
REFRESH-INTERVAL:P3D
CALSCALE:GREGORIAN
BEGIN:VEVENT
DTSTART:20151021T200000Z
DTEND:20151021T220000Z
X-MICROSOFT-CDO-ALLDAYEVENT:FALSE
SUMMARY:White Pine Senior Living - Ribbon Cutting
DESCRIPTION:White Pine Senior Living will be celebrating the grand opening of their new memory care facility with the MetroNorth Chamber. White Pine Senior Living will be hosting hors d' oeuvres\, wine bar\, and live entertainment along with tours of their facility.
X-ALT-DESC;FMTTYPE=text/html:White Pine Senior Living will be celebrating the grand opening of their new memory care facility with the MetroNorth Chamber. White Pine Senior Living will be hosting hors d&#39\; oeuvres\, wine bar\, and live entertainment along with tours of their facility.
LOCATION:White Pine Senior Living 12446 Jamestown Street NE Blaine\, MN 55449
UID:e.380.159622
SEQUENCE:3
DTSTAMP:20260422T234927Z
URL:http://members.metronorthchamber.org/events/details/white-pine-senior-living-ribbon-cutting-10-21-2015-159622
END:VEVENT

END:VCALENDAR
