BEGIN:VCALENDAR
VERSION:2.0
PRODID:-//ChamberMaster//Event Calendar 2.0//EN
METHOD:PUBLISH
X-PUBLISHED-TTL:P3D
REFRESH-INTERVAL:P3D
CALSCALE:GREGORIAN
BEGIN:VEVENT
DTSTART:20170124T220000Z
DTEND:20170125T030000Z
X-MICROSOFT-CDO-ALLDAYEVENT:FALSE
SUMMARY:What a Girl Wants 12th Annual Girls Night Out Women's Expo @ Greenhaven Golf Course
DESCRIPTION:80+ Vendors at the 12th Annual Girls Night Out Expo. Food & drink options\, spa specials\, lots of giveaways.\n\nMore info at facebook.com/WhataGirlWantsExpo
X-ALT-DESC;FMTTYPE=text/html:80+ Vendors at the 12th Annual Girls Night Out Expo. Food &amp\; drink options\, spa specials\, lots of giveaways.<br />\nMore info at facebook.com/WhataGirlWantsExpo
LOCATION:Conveniently located at Greenhaven Golf Course in Anoka! 2800 Greenhaven Road\, Anoka\, MN.
UID:e.380.171460
SEQUENCE:3
DTSTAMP:20260421T221834Z
URL:http://members.metronorthchamber.org/events/details/what-a-girl-wants-12th-annual-girls-night-out-women-s-expo-greenhaven-golf-course-171460
END:VEVENT

END:VCALENDAR
