BEGIN:VCALENDAR
VERSION:2.0
PRODID:-//ChamberMaster//Event Calendar 2.0//EN
METHOD:PUBLISH
X-PUBLISHED-TTL:P3D
REFRESH-INTERVAL:P3D
CALSCALE:GREGORIAN
BEGIN:VEVENT
DTSTART:20180814T213000Z
DTEND:20180814T230000Z
X-MICROSOFT-CDO-ALLDAYEVENT:FALSE
SUMMARY:Welcome Reception-Q3 2018
DESCRIPTION:Our new quarter three members are invited to this quarterly get together to welcome them to our chamber. Please note\, this is by invitation only.
X-ALT-DESC;FMTTYPE=text/html:Our new quarter three members are invited to this quarterly get together to welcome them to our chamber. Please note\, this is by invitation only.
LOCATION:Route 47 Pub & Grub 7820 University Avenue NE Fridley 55432
UID:e.380.179591
SEQUENCE:3
DTSTAMP:20260420T165912Z
URL:http://members.metronorthchamber.org/events/details/welcome-reception-q3-2018-179591
END:VEVENT

END:VCALENDAR
