BEGIN:VCALENDAR
VERSION:2.0
PRODID:-//ChamberMaster//Event Calendar 2.0//EN
METHOD:PUBLISH
X-PUBLISHED-TTL:P3D
REFRESH-INTERVAL:P3D
CALSCALE:GREGORIAN
BEGIN:VEVENT
DTSTART:20160808T224500Z
DTEND:20160808T233000Z
X-MICROSOFT-CDO-ALLDAYEVENT:FALSE
SUMMARY:Weight Loss Challenge
DESCRIPTION:Be a part of a Healthy Active Lifestyle Community by joining our NEW 8 week Weight Loss Challenge!\n\n\n\nWhat's Included:\n\n1-on-1 Wellness Coaching\n\nSmall Group Classes\n\nOn Line Support\n\nMeal Guide\n\nFitness Classes Optional\n\nWeekly Topics Related to Health\n\nCASH Prizes
X-ALT-DESC;FMTTYPE=text/html:Be a part of a Healthy Active Lifestyle Community by joining our NEW 8 week Weight Loss Challenge!<br />\n<br />\nWhat&#39\;s Included:<br />\n1-on-1 Wellness Coaching<br />\nSmall Group Classes<br />\nOn Line Support<br />\nMeal Guide<br />\nFitness Classes Optional<br />\nWeekly Topics Related to Health<br />\nCASH Prizes
LOCATION:HealthyVIBE 3450 Bunker Lake Blvd NW Andover\, MN 55304
UID:e.380.168633
SEQUENCE:3
DTSTAMP:20260422T083737Z
URL:http://members.metronorthchamber.org/events/details/weight-loss-challenge-08-08-2016-168633
END:VEVENT

END:VCALENDAR
