BEGIN:VCALENDAR
VERSION:2.0
PRODID:-//ChamberMaster//Event Calendar 2.0//EN
METHOD:PUBLISH
X-PUBLISHED-TTL:P3D
REFRESH-INTERVAL:P3D
CALSCALE:GREGORIAN
BEGIN:VEVENT
DTSTART:20141126T010000Z
DTEND:20141126T020000Z
X-MICROSOFT-CDO-ALLDAYEVENT:FALSE
SUMMARY:Weekly Community Wrap Party!
DESCRIPTION:Have you wanted to try a wrap for FREE but haven't wanted to host a party?? THIS is your chance! \n\n\n\nJoin the team from Morningstar Wellness Center as we share these products with you. We've had great success in our office with them and want to share with all of you!\n\n\n\nCome and sample some products\, try a wrap\, and possibly earn some FREE products!\n\n\n\nWraps are $25/each the night of the party BUT for every friend you bring with that wraps also\, you will get $5 OFF!! If you decide to purchase anything you will earn a FREE BOX OF WRAPS (or $35) for each friend that purchases too! Keep it\, split it\, do WHATEVER... because its yours!!\n\n\n\nWhat to expect?\n\nAPPROX 1 HOUR\n\n-Wrapping is optional ($25/each) & done in private\n\n-Full bar is open if you wish to grab a drink (in most locations )\n\n-We will explain the wrap and sample some products\n\n-Unwrap & place orders if you wish to (no obligation)\n\n-Hang out with your friends after or head home
X-ALT-DESC;FMTTYPE=text/html:<span style="color: rgb(20\, 24\, 35)\; line-height: 17.92px\; font-family: Helvetica\, Arial\, &quot\;lucida grande&quot\;\, tahoma\, verdana\, arial\, sans-serif\; font-size: 14px\;">Have you wanted to try a wrap for FREE but haven&#39\;t wanted to host a party?? THIS is your chance!&nbsp\;</span><br />\n<br />\nJoin the team from Morningstar Wellness Center as we share these products with you. We&#39\;ve had great success in our office with them and want to share with all of you!<br style="color: rgb(20\, 24\, 35)\; line-height: 17.92px\; font-family: Helvetica\, Arial\, &quot\;lucida grande&quot\;\, tahoma\, verdana\, arial\, sans-serif\; font-size: 14px\;" />\n<br style="color: rgb(20\, 24\, 35)\; line-height: 17.92px\; font-family: Helvetica\, Arial\, &quot\;lucida grande&quot\;\, tahoma\, verdana\, arial\, sans-serif\; font-size: 14px\;" />\n<span style="color: rgb(20\, 24\, 35)\; line-height: 17.92px\; font-family: Helvetica\, Arial\, &quot\;lucida grande&quot\;\, tahoma\, verdana\, arial\, sans-serif\; font-size: 14px\;">Come and sample some products\, try a wrap\, and possibly earn some FREE products!</span><br style="color: rgb(20\, 24\, 35)\; line-height: 17.92px\; font-family: Helvetica\, Arial\, &quot\;lucida grande&quot\;\, tahoma\, verdana\, arial\, sans-serif\; font-size: 14px\;" />\n<br style="color: rgb(20\, 24\, 35)\; line-height: 17.92px\; font-family: Helvetica\, Arial\, &quot\;lucida grande&quot\;\, tahoma\, verdana\, arial\, sans-serif\; font-size: 14px\;" />\n<span style="color: rgb(20\, 24\, 35)\; line-height: 17.92px\; font-family: Helvetica\, Arial\, &quot\;lucida grande&quot\;\, tahoma\, verdana\, arial\, sans-serif\; font-size: 14px\;">Wraps are $25/each the night of the party BUT for every friend you bring with that wraps also\, you will get $5 OFF!! If you decide to purchase anything you will earn a FREE BOX OF WRAPS (or $35) for each friend that purchases too! Keep it\, split it\, do WHATEVER... because its yours!!</span><br style="color: rgb(20\, 24\, 35)\; line-height: 17.92px\; font-family: Helvetica\, Arial\, &quot\;lucida grande&quot\;\, tahoma\, verdana\, arial\, sans-serif\; font-size: 14px\;" />\n<br style="color: rgb(20\, 24\, 35)\; line-height: 17.92px\; font-family: Helvetica\, Arial\, &quot\;lucida grande&quot\;\, tahoma\, verdana\, arial\, sans-serif\; font-size: 14px\;" />\n<span style="color: rgb(20\, 24\, 35)\; line-height: 17.92px\; font-family: Helvetica\, Arial\, &quot\;lucida grande&quot\;\, tahoma\, verdana\, arial\, sans-serif\; font-size: 14px\;">What to expect?</span><br style="color: rgb(20\, 24\, 35)\; line-height: 17.92px\; font-family: Helvetica\, Arial\, &quot\;lucida grande&quot\;\, tahoma\, verdana\, arial\, sans-serif\; font-size: 14px\;" />\n<span style="color: rgb(20\, 24\, 35)\; line-height: 17.92px\; font-family: Helvetica\, Arial\, &quot\;lucida grande&quot\;\, tahoma\, verdana\, arial\, sans-serif\; font-size: 14px\;">APPROX 1 HOUR</span><br style="color: rgb(20\, 24\, 35)\; line-height: 17.92px\; font-family: Helvetica\, Arial\, &quot\;lucida grande&quot\;\, tahoma\, verdana\, arial\, sans-serif\; font-size: 14px\;" />\n<span style="color: rgb(20\, 24\, 35)\; line-height: 17.92px\; font-family: Helvetica\, Arial\, &quot\;lucida grande&quot\;\, tahoma\, verdana\, arial\, sans-serif\; font-size: 14px\;">-Wrapping is optional ($25/each) &amp\; done in private</span><br style="color: rgb(20\, 24\, 35)\; line-height: 17.92px\; font-family: Helvetica\, Arial\, &quot\;lucida grande&quot\;\, tahoma\, verdana\, arial\, sans-serif\; font-size: 14px\;" />\n<span style="color: rgb(20\, 24\, 35)\; line-height: 17.92px\; font-family: Helvetica\, Arial\, &quot\;lucida grande&quot\;\, tahoma\, verdana\, arial\, sans-serif\; font-size: 14px\;">-Full bar is open if you wish to grab a drink (in most locations )</span><br style="color: rgb(20\, 24\, 35)\; line-height: 17.92px\; font-family: Helvetica\, Arial\, &quot\;lucida grande&quot\;\, tahoma\, verdana\, arial\, sans-serif\; font-size: 14px\;" />\n<span style="color: rgb(20\, 24\, 35)\; line-height: 17.92px\; font-family: Helvetica\, Arial\, &quot\;lucida grande&quot\;\, tahoma\, verdana\, arial\, sans-serif\; font-size: 14px\;">-We will explain th</span><span class="text_exposed_show" style="color: rgb(20\, 24\, 35)\; line-height: 17.92px\; font-family: Helvetica\, Arial\, &quot\;lucida grande&quot\;\, tahoma\, verdana\, arial\, sans-serif\; font-size: 14px\; display: inline\;">e wrap and sample some products<br />\n-Unwrap &amp\; place orders if you wish to (no obligation)<br />\n-Hang out with your friends after or head home</span>
LOCATION:Clive's Roadhouse in Blaine 10400 Baltimore St NE #200\, Blaine\, MN 55449
UID:e.380.151920
SEQUENCE:3
DTSTAMP:20260423T192058Z
URL:http://members.metronorthchamber.org/events/details/weekly-community-wrap-party-11-25-2014-151920
END:VEVENT

END:VCALENDAR
