BEGIN:VCALENDAR
VERSION:2.0
PRODID:-//ChamberMaster//Event Calendar 2.0//EN
METHOD:PUBLISH
X-PUBLISHED-TTL:P3D
REFRESH-INTERVAL:P3D
CALSCALE:GREGORIAN
BEGIN:VEVENT
DTSTART:20180509T183000Z
DTEND:20180509T200000Z
X-MICROSOFT-CDO-ALLDAYEVENT:FALSE
SUMMARY:Website Do's and Don'ts
DESCRIPTION:Did you know there are some tried and true things you should have on your website plus some definite non-starters or items to not include?
X-ALT-DESC;FMTTYPE=text/html:Did you know there are some tried and true things you should have on your website plus some definite non-starters or items to not include?
LOCATION:Scott County Shakopee Library 235 Lewis Street S Shakopee\, MN 55379
UID:e.380.183763
SEQUENCE:3
DTSTAMP:20260420T212621Z
URL:http://members.metronorthchamber.org/events/details/website-do-s-and-don-ts-183763
END:VEVENT

END:VCALENDAR
