BEGIN:VCALENDAR
VERSION:2.0
PRODID:-//ChamberMaster//Event Calendar 2.0//EN
METHOD:PUBLISH
X-PUBLISHED-TTL:P3D
REFRESH-INTERVAL:P3D
CALSCALE:GREGORIAN
BEGIN:VEVENT
DTSTART:20171024T173000Z
DTEND:20171024T183000Z
X-MICROSOFT-CDO-ALLDAYEVENT:FALSE
SUMMARY:WDF Board Meeting
DESCRIPTION:Feel free to bring your lunch to the meeting.
X-ALT-DESC;FMTTYPE=text/html:Feel free to bring your lunch to the meeting.
LOCATION:MetroNorth Chamber of Commerce
UID:e.380.179184
SEQUENCE:3
DTSTAMP:20260421T084109Z
URL:http://members.metronorthchamber.org/events/details/wdf-board-meeting-179184
END:VEVENT

END:VCALENDAR
