BEGIN:VCALENDAR
VERSION:2.0
PRODID:-//ChamberMaster//Event Calendar 2.0//EN
METHOD:PUBLISH
X-PUBLISHED-TTL:P3D
REFRESH-INTERVAL:P3D
CALSCALE:GREGORIAN
BEGIN:VEVENT
DTSTART:20170221T183000Z
DTEND:20170221T193000Z
X-MICROSOFT-CDO-ALLDAYEVENT:FALSE
SUMMARY:WDF Board Meeting
DESCRIPTION:
X-ALT-DESC;FMTTYPE=text/html:
LOCATION:MetroNorth Chamber of Commerce
UID:e.380.170173
SEQUENCE:3
DTSTAMP:20260421T203748Z
URL:http://members.metronorthchamber.org/events/details/wdf-board-meeting-170173
END:VEVENT

END:VCALENDAR
