BEGIN:VCALENDAR
VERSION:2.0
PRODID:-//ChamberMaster//Event Calendar 2.0//EN
METHOD:PUBLISH
X-PUBLISHED-TTL:P3D
REFRESH-INTERVAL:P3D
CALSCALE:GREGORIAN
BEGIN:VEVENT
DTSTART:20120505T000000Z
DTEND:20120505T010000Z
X-MICROSOFT-CDO-ALLDAYEVENT:FALSE
SUMMARY:Watch FASTSIGNS on Undercover Boss!
DESCRIPTION:Watch CBS Undercover Boss on May 4th at 7pm Central Time\, an undisclosed FASTSIGNS location will be featured in this episode along with FASTSIGNS CEO\, Catherine Monson!\n\n\n\nThis is a great opportunity to learn more about FASTSIGNS and their many capabilities!!
X-ALT-DESC;FMTTYPE=text/html:<br />\n<span style="color:#000080\;"><span style="font-size: 11px\;"><span style="font-family: tahoma\;">Watch CBS Undercover Boss on May <span>4th</span> at <span>7pm</span> Central Time\, an undisclosed FASTSIGNS location will be featured in this episode along with <span>FASTSIGNS</span> CEO\, Catherine <span>Monson</span>!<br />\n<br />\nThis is a great opportunity to learn more about FASTSIGNS and their many capabilities!!</span></span></span>
LOCATION:
UID:e.380.143499
SEQUENCE:3
DTSTAMP:20260425T180118Z
URL:http://members.metronorthchamber.org/events/details/watch-fastsigns-on-undercover-boss-05-04-2012-143499
END:VEVENT

END:VCALENDAR
