BEGIN:VCALENDAR
VERSION:2.0
PRODID:-//ChamberMaster//Event Calendar 2.0//EN
METHOD:PUBLISH
X-PUBLISHED-TTL:P3D
REFRESH-INTERVAL:P3D
CALSCALE:GREGORIAN
BEGIN:VEVENT
DTSTART:20160623T223000Z
DTEND:20160624T040000Z
X-MICROSOFT-CDO-ALLDAYEVENT:FALSE
SUMMARY:Warrant\, Lita Ford\, Firehouse Presented by Running Aces Outdoor Concert Series
DESCRIPTION:Come on out to Running Aces on June 23rd and get rocked by Warrant\, Lita Ford and Firehouse all on one stage. \n\n\n\nTickets are $25 in Advance. $35 at the door. See Runaces.com for tickets and additional details.
X-ALT-DESC;FMTTYPE=text/html:<h1><span style="color:rgb(125\, 125\, 125)\; font-family:helvetica\,arial\,sans-serif\; font-size:17px">Come on out to Running Aces on June 23rd and get rocked by Warrant\, Lita Ford and Firehouse all on one stage.&nbsp\;</span><br />\n<br />\n<span style="color:rgb(125\, 125\, 125)\; font-family:helvetica\,arial\,sans-serif\; font-size:17px">Tickets are $25 in Advance. $35 at the door. See Runaces.com for tickets and additional details.</span></h1>\n
LOCATION:Running Aces Casino & Racetrack
UID:e.380.168460
SEQUENCE:3
DTSTAMP:20260422T103642Z
URL:http://members.metronorthchamber.org/events/details/warrant-lita-ford-firehouse-presented-by-running-aces-outdoor-concert-series-06-23-2016-168460
END:VEVENT

END:VCALENDAR
