BEGIN:VCALENDAR
VERSION:2.0
PRODID:-//ChamberMaster//Event Calendar 2.0//EN
METHOD:PUBLISH
X-PUBLISHED-TTL:P3D
REFRESH-INTERVAL:P3D
CALSCALE:GREGORIAN
BEGIN:VEVENT
DTSTART:20180428T150000Z
DTEND:20180428T180000Z
X-MICROSOFT-CDO-ALLDAYEVENT:FALSE
SUMMARY:Walters Recycling & Refuse Job Fair
DESCRIPTION:Job Fair\n\nPositions available:\n\nDiesel Mechanic - 2nd Shift\n\nDrivers - Class B CDL\n\nDrivers - No experience necessary\, we will provide training and help you obtain your CDL\n\nResidential Sales Consultant\n\nLoader Operator
X-ALT-DESC;FMTTYPE=text/html:Job Fair<br />\nPositions available:<br />\nDiesel Mechanic - 2nd Shift<br />\nDrivers - Class B CDL<br />\nDrivers - No experience necessary\, we will provide training and help you obtain your CDL<br />\nResidential Sales Consultant<br />\nLoader Operator
LOCATION:Walters Recycling & Refuse 2830 101st Ave NE Blaine\, MN 55449
UID:e.380.184794
SEQUENCE:3
DTSTAMP:20260420T230844Z
URL:http://members.metronorthchamber.org/events/details/walters-recycling-refuse-job-fair-184794
END:VEVENT

END:VCALENDAR
