BEGIN:VCALENDAR
VERSION:2.0
PRODID:-//ChamberMaster//Event Calendar 2.0//EN
METHOD:PUBLISH
X-PUBLISHED-TTL:P3D
REFRESH-INTERVAL:P3D
CALSCALE:GREGORIAN
BEGIN:VEVENT
DTSTART:20150926T130000Z
DTEND:20150926T160000Z
X-MICROSOFT-CDO-ALLDAYEVENT:FALSE
SUMMARY:Walk For Hope - Alexandra House 2015
DESCRIPTION:On Saturday\, September 26\, Alexandra House will be putting on its 11th Annual Walk For Hope 5K run & 2-mile walk. The event will begin at Bunker Hills Regional Park\, Pavilion #3 in Andover. \n\n\n\nRegister at AlexandraHouse.org
X-ALT-DESC;FMTTYPE=text/html:On Saturday\, September 26\, Alexandra House will be putting on its 11th Annual Walk For Hope 5K run &amp\; 2-mile walk. The event will begin at Bunker Hills Regional Park\, Pavilion #3 in Andover.&nbsp\;<br />\n<br />\nRegister at AlexandraHouse.org
LOCATION:Bunker Hills Regional Park\, Pavilion #3 550 Bunker Lake Blvd NW Andover\, MN 55304
UID:e.380.157902
SEQUENCE:3
DTSTAMP:20260423T030017Z
URL:http://members.metronorthchamber.org/events/details/walk-for-hope-alexandra-house-2015-09-26-2015-157902
END:VEVENT

END:VCALENDAR
