BEGIN:VCALENDAR
VERSION:2.0
PRODID:-//ChamberMaster//Event Calendar 2.0//EN
METHOD:PUBLISH
X-PUBLISHED-TTL:P3D
REFRESH-INTERVAL:P3D
CALSCALE:GREGORIAN
BEGIN:VEVENT
DTSTART:20181216T210000Z
DTEND:20181216T230000Z
X-MICROSOFT-CDO-ALLDAYEVENT:FALSE
SUMMARY:Waggin' Around the Catmis Tree Pawrty
DESCRIPTION:The howloday season can be stressful for everyone so what better way to relax than popping over for a bit of relaxing fun for the whole family? Bring the pups\, both two and four-leggeed! Join us for cookies and punch\, and while you're here take your pups picture with Santa! There will be activities for the kiddos and treats for the pups. We'll have accessories for sale if your pup needs some extra bling for the holiday season. Your pup can make a present for you to hang in your home! Midwest Animal Rescue and Services will have canvas painting for pups available for $30.
X-ALT-DESC;FMTTYPE=text/html:<span style="color: rgb(29\, 33\, 41)\; font-family: Helvetica\, Arial\, sans-serif\; font-size: 14px\; background-color: rgb(255\, 255\, 255)\;">The howloday season can be stressful for everyone so what better way to relax than popping over for a bit of relaxing fun for the whole family? Bring the pups\, both two and four-leggeed! Join us for cookies and punch\, and while you&#39\;re here take your pups picture with Santa! There will be activities for the kiddos and treats for the pups. We&#39\;ll have accessories for sale if your pup needs some extra bling for the holiday season. Your pup can make a present for you to hang in your home! Midwest Animal Rescue and Services will have canvas painting for pups available for $30.</span>
LOCATION:Fairy Tails Grooming 10904 Baltimore St Suite 106\, Blaine\, Minnesota 55449
UID:e.380.187479
SEQUENCE:3
DTSTAMP:20260420T104727Z
URL:http://members.metronorthchamber.org/events/details/waggin-around-the-catmis-tree-pawrty-187479
END:VEVENT

END:VCALENDAR
