BEGIN:VCALENDAR
VERSION:2.0
PRODID:-//ChamberMaster//Event Calendar 2.0//EN
METHOD:PUBLISH
X-PUBLISHED-TTL:P3D
REFRESH-INTERVAL:P3D
CALSCALE:GREGORIAN
BEGIN:VEVENT
DTSTART:20181215T170000Z
DTEND:20181215T180000Z
X-MICROSOFT-CDO-ALLDAYEVENT:FALSE
SUMMARY:Voices of Impact Christmas Concert
DESCRIPTION:A choir for those living with dementia and their caregivers.
X-ALT-DESC;FMTTYPE=text/html:A choir for those living with dementia and their caregivers.
LOCATION:Faith Lutheran Church 11115 Hanson Blvd NW Coon Rapids\, MN 55433
UID:e.380.187468
SEQUENCE:3
DTSTAMP:20260420T105153Z
URL:http://members.metronorthchamber.org/events/details/voices-of-impact-christmas-concert-187468
END:VEVENT

END:VCALENDAR
