BEGIN:VCALENDAR
VERSION:2.0
PRODID:-//ChamberMaster//Event Calendar 2.0//EN
METHOD:PUBLISH
X-PUBLISHED-TTL:P3D
REFRESH-INTERVAL:P3D
CALSCALE:GREGORIAN
BEGIN:VEVENT
DTSTART:20141117T233000Z
DTEND:20141118T023000Z
X-MICROSOFT-CDO-ALLDAYEVENT:FALSE
SUMMARY:Vino & Coach Bingo at the TPC
DESCRIPTION:Vino & Coach Bag Bingo at the TPC!
X-ALT-DESC;FMTTYPE=text/html:<span id="cke_bm_194S" style="display: none\;">&nbsp\;</span><span style="display: none\;">&nbsp\;</span><span style="display: none\;">&nbsp\;</span><span style="font-size: 48px\;"><span style="font-family: comic sans ms\;"><span id="cke_bm_349S" style="display: none\;">&nbsp\;</span>Vino &amp\; Coach Bag Bingo at the TPC!<span id="cke_bm_349E" style="display: none\;">&nbsp\;</span></span></span><span style="display: none\;">&nbsp\;</span>
LOCATION:TPC Twin Cities 11444 Tournament Players Parkway Blaine MN 55449 763-795-0800
UID:e.380.151715
SEQUENCE:3
DTSTAMP:20260423T174104Z
URL:http://members.metronorthchamber.org/events/details/vino-coach-bingo-at-the-tpc-11-17-2014-151715
END:VEVENT

END:VCALENDAR
