BEGIN:VCALENDAR
VERSION:2.0
PRODID:-//ChamberMaster//Event Calendar 2.0//EN
METHOD:PUBLISH
X-PUBLISHED-TTL:P3D
REFRESH-INTERVAL:P3D
CALSCALE:GREGORIAN
BEGIN:VEVENT
DTSTART:20190418T223000Z
DTEND:20190419T000000Z
X-MICROSOFT-CDO-ALLDAYEVENT:FALSE
SUMMARY:Veterans Appreciation Day
DESCRIPTION:Join us for this open house style event honoring the men and women who have served in our military. Snacks and refreshments will be provided along with raffles\, prize giveaways and a great opportunity to meet veterans who have served our country. \n\n\n\nLocal businesses: If you would like to donate prizes for our veterans\, please reach out to Chad at chergott@physicaltherapyptc.com.
X-ALT-DESC;FMTTYPE=text/html:Join us for this open house style event honoring the men and women who have served in our military. Snacks and refreshments will be provided along with raffles\, prize giveaways and a great opportunity to meet veterans who have served our country.&nbsp\;<br />\n<br />\nLocal businesses: If you would like to donate prizes for our veterans\, please reach out to Chad at chergott@physicaltherapyptc.com.&nbsp\;<br />\n&nbsp\;
LOCATION:Ham Lake Physical Therapy 16210 Aberdeen St NE Ham Lake\, MN 55303
UID:e.380.188903
SEQUENCE:3
DTSTAMP:20260420T040814Z
URL:http://members.metronorthchamber.org/events/details/veterans-appreciation-day-188903
END:VEVENT

END:VCALENDAR
