BEGIN:VCALENDAR
VERSION:2.0
PRODID:-//ChamberMaster//Event Calendar 2.0//EN
METHOD:PUBLISH
X-PUBLISHED-TTL:P3D
REFRESH-INTERVAL:P3D
CALSCALE:GREGORIAN
BEGIN:VEVENT
DTSTART;VALUE=DATE:20170902
DTEND;VALUE=DATE:20170905
TRANSP:TRANSPARENT
X-MICROSOFT-CDO-ALLDAYEVENT:TRUE
SUMMARY:Urban Air Grand Opening Weekend
DESCRIPTION:Come Join Us - Fun for ALL ages! Urban Air Coon Rapids is opening the doors at 10am Saturday September 2nd. Visit www.UrbanAirCoonRapids.com for more info or follow us on Facebook to enter to win some amazing swag and prizes.
X-ALT-DESC;FMTTYPE=text/html:Come Join Us - Fun for <u><strong>ALL</strong></u> ages! Urban Air Coon Rapids is opening the doors at 10am Saturday September 2nd. Visit <u>www.UrbanAirCoonRapids.com</u> for more info or follow us on Facebook to enter to win some amazing swag and prizes.&nbsp\;
LOCATION:Located in the Northtown Village Shopping Center 10 Coon Rapids Blvd Coon Rapids\, MN 55448
UID:e.380.176723
SEQUENCE:3
DTSTAMP:20260421T095443Z
URL:http://members.metronorthchamber.org/events/details/urban-air-grand-opening-weekend-176723
END:VEVENT

END:VCALENDAR
