BEGIN:VCALENDAR
VERSION:2.0
PRODID:-//ChamberMaster//Event Calendar 2.0//EN
METHOD:PUBLISH
X-PUBLISHED-TTL:P3D
REFRESH-INTERVAL:P3D
CALSCALE:GREGORIAN
BEGIN:VEVENT
DTSTART:20170923T150000Z
DTEND:20170923T190000Z
X-MICROSOFT-CDO-ALLDAYEVENT:FALSE
SUMMARY:Up\, Up and Away to The Coon Rapids Love My Pet Fair
DESCRIPTION:Inviting all pet lovers and their friendly K9s to the third annual gathering of pets and families at the Coon Rapids Love My Pet Fair. Our goal is to bring unique and important services\, education and resources to all pet lovers.\n\n\n\nPets\, come dressed for the pet parade starting at noon. Then enter for a chance to be the grand winner of our Best Dressed Pet at the fair.  Does your Fido have some tricks up it's furry paw? Enter Fido into our Smart Pet Tricks talent show.  The talented dogs from The Far Out K9 Flying Disc Experience will be presenting a demonstration of their amazing flying dogs starting at 11 a.m. and againg at 12:30 p.m.  We will also have prizes and awards every hour.\n\n\n\nNew this year is the Children's Actity Center with face painting\, reading with Winnie the Pooh and show your artistic talent at paw dough art. An artist from Imagination workshop will be presenting an hour of drawing with story telling for kids 5 and older. Join us for many more fun activities for the whole family at the Coon Rapids Love My Pet Fair.\n\n\n\nWe are mindful that there are many pets who have lost their homes due to Hurricanes Harvey and Irma. We will be collecting monetary donations and partnering with the Humane Society of the United States and support them in their animal rescue efforts.
X-ALT-DESC;FMTTYPE=text/html:Inviting all pet lovers and their friendly K9s to the third annual gathering of pets and families at the Coon Rapids Love My Pet Fair.&nbsp\;Our goal is to bring unique and important services\, education and resources to all pet lovers.<br />\n<br />\nPets\, come dressed for the pet parade starting at noon. Then enter for a chance to be the grand winner of our Best Dressed Pet at the fair.&nbsp\; Does your Fido have some tricks up it&#39\;s furry paw? Enter Fido into our Smart Pet Tricks talent show.&nbsp\; The talented dogs from The Far Out K9 Flying Disc&nbsp\;Experience will be presenting a demonstration of their amazing flying dogs starting at 11 a.m. and againg at 12:30&nbsp\;p.m. &nbsp\;We will also have prizes and awards every hour.<br />\n<br />\nNew this year is the Children&#39\;s Actity Center with face painting\,&nbsp\;reading with Winnie the Pooh&nbsp\;and show your artistic talent at&nbsp\;paw dough art. An artist from Imagination workshop will be presenting an hour of drawing with story telling for kids 5 and older. Join us for many more fun activities for the whole family at the Coon Rapids Love My Pet Fair.<br />\n<br />\nWe are mindful that there are many pets who have lost their homes due to Hurricanes Harvey and Irma. We will be collecting monetary donations&nbsp\;and&nbsp\;partnering with the Humane Society of the&nbsp\;United States and support them in their&nbsp\;animal&nbsp\;rescue efforts.<br />\n&nbsp\;
LOCATION:Riverview Park 2420 105th Avenue NW Coon Rapids\, MN 55433
UID:e.380.177974
SEQUENCE:3
DTSTAMP:20260421T100247Z
URL:http://members.metronorthchamber.org/events/details/up-up-and-away-to-the-coon-rapids-love-my-pet-fair-177974
END:VEVENT

END:VCALENDAR
