BEGIN:VCALENDAR
VERSION:2.0
PRODID:-//ChamberMaster//Event Calendar 2.0//EN
METHOD:PUBLISH
X-PUBLISHED-TTL:P3D
REFRESH-INTERVAL:P3D
CALSCALE:GREGORIAN
BEGIN:VEVENT
DTSTART:20160707T220000Z
DTEND:20160708T010000Z
X-MICROSOFT-CDO-ALLDAYEVENT:FALSE
SUMMARY:Unique Dining & Courtyards of Andover - Pig Roast
DESCRIPTION:Unique Dining & Courtyards of Andover are hosting a Community Pig Roast here at the Courtyards of Andover on July 7th from 5pm to 8pm. Theywill be having a  pig roast and for the first 500 people the pulled pork sandwiches are free! There will be music and a cash bar as well.
X-ALT-DESC;FMTTYPE=text/html:<span style="font-family:calibri\,sans-serif\;"><span style="font-size:11.0pt\;">Unique Dining &amp\; Courtyards of Andover are hosting a Community Pig Roast here at the Courtyards of Andover on July 7<sup>th</sup> from 5pm to 8pm. Theywill be having a &nbsp\;pig roast and for the first 500 people the pulled pork sandwiches are free! There will be music and a cash bar as well.</span></span>
LOCATION:Courtyards of Andover 13545 Martin Street NW Andover\, MN 55304
UID:e.380.168625
SEQUENCE:3
DTSTAMP:20260422T085106Z
URL:http://members.metronorthchamber.org/events/details/unique-dining-courtyards-of-andover-pig-roast-07-07-2016-168625
END:VEVENT

END:VCALENDAR
