BEGIN:VCALENDAR
VERSION:2.0
PRODID:-//ChamberMaster//Event Calendar 2.0//EN
METHOD:PUBLISH
X-PUBLISHED-TTL:P3D
REFRESH-INTERVAL:P3D
CALSCALE:GREGORIAN
BEGIN:VEVENT
DTSTART:20120418T133000Z
DTEND:20120418T170000Z
X-MICROSOFT-CDO-ALLDAYEVENT:FALSE
SUMMARY:Unemployment Insurance (UI) 101
DESCRIPTION:What Minnesota Employers Need to Know...\n\n\n\nThis FREE dynamic 3-hour seminar will give you clear answers to your toughest questions.  You'll learn the best practices on how to manage unemployment issues in your workplace and gain the knowledge you need to deal with unemployment issues quickly and decisively.  The presenters will explain how your Unemployment Insurand (UI) tax rates are determined\, how an applican't benefits eligibility can affect your business\, what you can do to prevent unnecessary charges to your UI account and much\, much more.
X-ALT-DESC;FMTTYPE=text/html:What Minnesota Employers Need to Know...<br />\n<br />\nThis FREE dynamic 3-hour seminar will give you clear answers to your toughest questions.&nbsp\; You&#39\;ll learn the best practices on how to manage unemployment issues in your workplace and gain the knowledge you need to deal with unemployment issues quickly and decisively.&nbsp\; The presenters will explain how your Unemployment Insurand (UI) tax rates are determined\, how an applican&#39\;t benefits eligibility can affect your business\, what you can do to prevent unnecessary charges to your UI account and much\, much more.
LOCATION:Minnesota WorkForce Center 1201 89th Avenue NE Suite # 300 Blaine\, MN 55434
UID:e.380.143476
SEQUENCE:3
DTSTAMP:20260425T193233Z
URL:http://members.metronorthchamber.org/events/details/unemployment-insurance-ui-101-04-18-2012-143476
END:VEVENT

END:VCALENDAR
