BEGIN:VCALENDAR
VERSION:2.0
PRODID:-//ChamberMaster//Event Calendar 2.0//EN
METHOD:PUBLISH
X-PUBLISHED-TTL:P3D
REFRESH-INTERVAL:P3D
CALSCALE:GREGORIAN
BEGIN:VEVENT
DTSTART:20120501T180000Z
DTEND:20120501T184500Z
X-MICROSOFT-CDO-ALLDAYEVENT:FALSE
SUMMARY:Understanding the Search Engines
DESCRIPTION:The internet can be a confusing place. In this FREE workshop we will help you make the most of the internet for your business by breaking down how the search engines work. Please RSVP as space is limited.
X-ALT-DESC;FMTTYPE=text/html:The internet can be a confusing place. In this FREE workshop we will help you make the most of the internet for your business by breaking down how the search engines work. Please RSVP as space is limited.
LOCATION:MetroNorth Chamber Offices
UID:e.380.143781
SEQUENCE:3
DTSTAMP:20260425T192227Z
URL:http://members.metronorthchamber.org/events/details/understanding-the-search-engines-05-01-2012-143781
END:VEVENT

END:VCALENDAR
