BEGIN:VCALENDAR
VERSION:2.0
PRODID:-//ChamberMaster//Event Calendar 2.0//EN
METHOD:PUBLISH
X-PUBLISHED-TTL:P3D
REFRESH-INTERVAL:P3D
CALSCALE:GREGORIAN
BEGIN:VEVENT
DTSTART:20160526T193000Z
DTEND:20160526T203000Z
X-MICROSOFT-CDO-ALLDAYEVENT:FALSE
SUMMARY:Understanding Dementia
DESCRIPTION:Please join us for UNDERSTANDING DEMEMTIA\n\n-Gain understanding of causes of dementia\n\n-Identify the challenges\n\n-Learn strategies for communication and more!\n\n\n\nPresented by Guardian Angels+Elim Home Care & Hospice
X-ALT-DESC;FMTTYPE=text/html:Please join us for UNDERSTANDING DEMEMTIA<br />\n-Gain understanding of causes of dementia<br />\n-Identify the challenges<br />\n-Learn strategies for communication and more!<br />\n<br />\nPresented by Guardian Angels+Elim Home Care &amp\; Hospice
LOCATION:3715 Coon Rapids Blvd NW Coon Rpaids\, MN
UID:e.380.168435
SEQUENCE:3
DTSTAMP:20260422T120227Z
URL:http://members.metronorthchamber.org/events/details/understanding-dementia-05-26-2016-168435
END:VEVENT

END:VCALENDAR
