BEGIN:VCALENDAR
VERSION:2.0
PRODID:-//ChamberMaster//Event Calendar 2.0//EN
METHOD:PUBLISH
X-PUBLISHED-TTL:P3D
REFRESH-INTERVAL:P3D
CALSCALE:GREGORIAN
BEGIN:VEVENT
DTSTART:20121013T140000Z
DTEND:20121013T170000Z
X-MICROSOFT-CDO-ALLDAYEVENT:FALSE
SUMMARY:UECU Community Shred Day & Food Drive
DESCRIPTION:In celebration of United Educators Credit Union's (UECU) first anniversary in Coon Rapids\, the community is invited to attend a free document shredding event. The shred event will offer credit union members and the community the opportunity to learn about identity theft and shred unwanted documents for FREE. Non-UECU members are welcome to bring up to two boxes for shredding. The company Shred-It will be on site to shred unwanted personal documents -  such as old account statements\, canceled checks\, credit/debit cards\, ATM receipts and unwanted credit card offers. These items will be shred on the spot by the shredding truck in the parking lot.\n\n\n\nShred day attendees are asked to bring a non-perishable food item. The credit union is holding a food drive to benefit Evergreen Elementary School in Brooklyn Center. The school just recently opened a food shelf for their families and is in need of donations.
X-ALT-DESC;FMTTYPE=text/html:In celebration of United Educators Credit Union&rsquo\;s (UECU) first anniversary in Coon Rapids\, the community is invited to attend a free document shredding event. The shred event will offer credit union members and the community the opportunity to learn about identity theft and shred unwanted documents for FREE. Non-UECU members are welcome to bring up to two boxes for shredding. The company Shred-It will be on site to shred unwanted personal documents -&nbsp\; such as old account statements\, canceled checks\, credit/debit cards\, ATM receipts and unwanted credit card offers. These items will be shred on the spot by the shredding truck in the parking lot.<br />\n<br />\nShred day attendees are asked to bring a non-perishable food item. The credit union is holding a food drive to benefit Evergreen Elementary School in Brooklyn Center. The school just recently opened a food shelf for their families and is in need of donations.
LOCATION:United Educators Credit Union 11599 Robinson Drive NW\, Coon Rapids
UID:e.380.146676
SEQUENCE:3
DTSTAMP:20260425T112807Z
URL:http://members.metronorthchamber.org/events/details/uecu-community-shred-day-food-drive-10-13-2012-146676
END:VEVENT

END:VCALENDAR
