BEGIN:VCALENDAR
VERSION:2.0
PRODID:-//ChamberMaster//Event Calendar 2.0//EN
METHOD:PUBLISH
X-PUBLISHED-TTL:P3D
REFRESH-INTERVAL:P3D
CALSCALE:GREGORIAN
BEGIN:VEVENT
DTSTART;VALUE=DATE:20170730
DTEND;VALUE=DATE:20170731
TRANSP:TRANSPARENT
X-MICROSOFT-CDO-ALLDAYEVENT:TRUE
SUMMARY:Twins Gear Deal
DESCRIPTION:Every Sunday through the end of September get $2 off golf for wearing MINNESOTA TWINS gear.
X-ALT-DESC;FMTTYPE=text/html:Every Sunday through the end of September get $2 off golf for wearing MINNESOTA TWINS gear.
LOCATION:Glow in One Mini Golf 12579 Central Ave NE Blaine\, MN 55449
UID:e.380.173393
SEQUENCE:3
DTSTAMP:20260421T135419Z
URL:http://members.metronorthchamber.org/events/details/twins-gear-deal-07-30-2017-173393
END:VEVENT

END:VCALENDAR
