BEGIN:VCALENDAR
VERSION:2.0
PRODID:-//ChamberMaster//Event Calendar 2.0//EN
METHOD:PUBLISH
X-PUBLISHED-TTL:P3D
REFRESH-INTERVAL:P3D
CALSCALE:GREGORIAN
BEGIN:VEVENT
DTSTART:20190413T230000Z
DTEND:20190414T003000Z
X-MICROSOFT-CDO-ALLDAYEVENT:FALSE
SUMMARY:Tumbling Skill Clinic
DESCRIPTION:Our trained coaches will help kids with tumbling skills!
X-ALT-DESC;FMTTYPE=text/html:Our trained coaches will help kids with tumbling skills!
LOCATION:1460 133rd Lane NE\, Ham Lake
UID:e.380.188852
SEQUENCE:3
DTSTAMP:20260420T040815Z
URL:http://members.metronorthchamber.org/events/details/tumbling-skill-clinic-188852
END:VEVENT

END:VCALENDAR
