BEGIN:VCALENDAR
VERSION:2.0
PRODID:-//ChamberMaster//Event Calendar 2.0//EN
METHOD:PUBLISH
X-PUBLISHED-TTL:P3D
REFRESH-INTERVAL:P3D
CALSCALE:GREGORIAN
BEGIN:VEVENT
DTSTART:20190409T233000Z
DTEND:20190410T033000Z
X-MICROSOFT-CDO-ALLDAYEVENT:FALSE
SUMMARY:Tuesday Night Bingo
DESCRIPTION:Tuesday Night Bingo features a soup and salad bar with $5 local beer\, wine\, and cocktails.
X-ALT-DESC;FMTTYPE=text/html:Tuesday Night Bingo features a soup and salad bar with $5 local beer\, wine\, and cocktails.
LOCATION:Running Aces Casino and Racetrack
UID:e.380.187096
SEQUENCE:3
DTSTAMP:20260420T041418Z
URL:http://members.metronorthchamber.org/events/details/tuesday-night-bingo-04-09-2019-187096
END:VEVENT

END:VCALENDAR
