BEGIN:VCALENDAR
VERSION:2.0
PRODID:-//ChamberMaster//Event Calendar 2.0//EN
METHOD:PUBLISH
X-PUBLISHED-TTL:P3D
REFRESH-INTERVAL:P3D
CALSCALE:GREGORIAN
BEGIN:VEVENT
DTSTART:20160506T210000Z
DTEND:20160507T020000Z
X-MICROSOFT-CDO-ALLDAYEVENT:FALSE
SUMMARY:Trout Air Experience Season Opener
DESCRIPTION:You catch it\, we cook it. From pond to plate this is the freshest fish around. Come visit us for our season opening of the Trout Air Experience. \n\n\n\nNo fishing license required.  No catch and release
X-ALT-DESC;FMTTYPE=text/html:You catch it\, we cook it. From pond to plate this is the freshest fish around. Come visit us for our season opening of the Trout Air Experience.&nbsp\;<br />\n<br />\nNo fishing license required. &nbsp\;No catch and release
LOCATION:Running Aces Casino & Racetrack
UID:e.380.167414
SEQUENCE:3
DTSTAMP:20260422T120928Z
URL:http://members.metronorthchamber.org/events/details/trout-air-experience-season-opener-05-06-2016-167414
END:VEVENT

END:VCALENDAR
