BEGIN:VCALENDAR
VERSION:2.0
PRODID:-//ChamberMaster//Event Calendar 2.0//EN
METHOD:PUBLISH
X-PUBLISHED-TTL:P3D
REFRESH-INTERVAL:P3D
CALSCALE:GREGORIAN
BEGIN:VEVENT
DTSTART:20150331T214500Z
DTEND:20150331T234500Z
X-MICROSOFT-CDO-ALLDAYEVENT:FALSE
SUMMARY:Tria VIP Grand Re-Opening After-Hours
DESCRIPTION:After 6 weeks of construction\, Tria's newly remodeled Jerome Hill room will re-open\, featuring new amenities\, a more open space\, a full bar\, and more.\n\n\n\nEnjoy mouth-watering hors d' oeuvres\, delicious wine\, raffle and door prizes. All while making new connections with business members from 3 north metro organizations: MetroNorth Chamber\, White Bear Chamber\, & the Hugo Area Business Association.
X-ALT-DESC;FMTTYPE=text/html:After 6 weeks of construction\, Tria&#39\;s newly remodeled Jerome Hill room will re-open\, featuring new amenities\, a more open space\, a full bar\, and more.<br />\n<br />\nEnjoy mouth-watering hors d&#39\; oeuvres\, delicious wine\, raffle and door prizes. All while making new connections with business members from 3 north metro organizations: MetroNorth Chamber\, White Bear Chamber\, &amp\; the Hugo Area Business Association.
LOCATION:5959 Centerville Rd\, North Oaks\, MN 55127. West of Hwy 35 & City Road J.
UID:e.380.155899
SEQUENCE:3
DTSTAMP:20260423T112322Z
URL:http://members.metronorthchamber.org/events/details/tria-vip-grand-re-opening-after-hours-03-31-2015-155899
END:VEVENT

END:VCALENDAR
