BEGIN:VCALENDAR
VERSION:2.0
PRODID:-//ChamberMaster//Event Calendar 2.0//EN
METHOD:PUBLISH
X-PUBLISHED-TTL:P3D
REFRESH-INTERVAL:P3D
CALSCALE:GREGORIAN
BEGIN:VEVENT
DTSTART:20151112T000000Z
DTEND:20151112T013000Z
X-MICROSOFT-CDO-ALLDAYEVENT:FALSE
SUMMARY:Travel2 Exclusive Event
DESCRIPTION:Learn from a Travel2 representative and our experienced travel specialists about the amazing experiences and unique itineraries offered in Australia\, New Zealand and South Pacific. \n\n\n\nThis presentation will entertain and inform you about the many possibilities available. Whether you are seeking a relaxing honeymoon\, planning the holiday of a lifetime or wanting to celebrate a special event\, Travel2 will exceed your expectations. Whatever you want to do\, Travel2 can create customized itineraries just for you. \n\n\n\nWhy Travel2?\n\n  Service & Experience \n\n  Tailor-made\n\n  Flexibility\n\n  Price\n\n  Peace of mind\n\n\n\nFood & beverages will be provided\, along with exclusive event savings and giveaways!
X-ALT-DESC;FMTTYPE=text/html:<div>\n<div>\n<div><span style="font-size:14px">Learn from a Travel2 representative and our experienced travel specialists about the amazing experiences and unique itineraries offered in Australia\, New Zealand and South Pacific.&nbsp\;<br />\n<br />\nThis presentation will entertain and inform you about the many possibilities available. Whether you are seeking a relaxing honeymoon\, planning the holiday of a lifetime or wanting to celebrate a special event\, Travel2 will exceed your expectations. Whatever you want to do\, Travel2 can create customized itineraries just for you.&nbsp\;<br />\n<br />\n<strong>Why Travel2?</strong><br />\n&bull\; Service &amp\; Experience&nbsp\;<br />\n&bull\; Tailor-made<br />\n&bull\; Flexibility<br />\n&bull\; Price<br />\n&bull\; Peace of mind<br />\n<br />\n<strong>Food &amp\; beverages will be provided\, along with exclusive event savings and giveaways!</strong></span></div>\n</div>\n</div>\n
LOCATION:Travel Leaders Maple Grove: 13756 83rd Way North\, Maple Grove\, MN 55369
UID:e.380.159785
SEQUENCE:3
DTSTAMP:20260422T234409Z
URL:http://members.metronorthchamber.org/events/details/travel2-exclusive-event-11-11-2015-159785
END:VEVENT

END:VCALENDAR
