BEGIN:VCALENDAR
VERSION:2.0
PRODID:-//ChamberMaster//Event Calendar 2.0//EN
METHOD:PUBLISH
X-PUBLISHED-TTL:P3D
REFRESH-INTERVAL:P3D
CALSCALE:GREGORIAN
BEGIN:VEVENT
DTSTART:20180427T130000Z
DTEND:20180427T150000Z
X-MICROSOFT-CDO-ALLDAYEVENT:FALSE
SUMMARY:Transform Your Team: 5 Keys to Conquer Team Dysfunction
DESCRIPTION:Is Your Team 100% Committed to Your Success?\n\nBecause teams are made up of fallible\, imperfect human beings\, the dynamics of any team can be deep and wide.  Regardless\, if you can get every person in your organization rowing together\, you can conquer any industry\, in any market\, against any competition\, in any economic situation.\n\nBusiness owners who want a cohesive team will walk away knowing:\n\n\n	How to identify dysfunctions in your team.\n	5 Keys to conquer team dysfunction.\n	What four people every organization should hire.\n	Why increasing individual ownership puts you at an advantage.\n\n\nNOW is the time to say YES to your business!\n\nClear Direction.  Focused Action.  Real Results.
X-ALT-DESC;FMTTYPE=text/html:<p style="text-align:center"><strong><em>Is Your Team&nbsp\;</em></strong><strong><em>100% Committed to&nbsp\;</em></strong><strong><em>Your Success?</em></strong></p>\n\n<p>Because teams are made up of fallible\, imperfect human beings\, the dynamics of any team can be deep and wide. &nbsp\;Regardless\, if you can get every person in your organization rowing together\, you can conquer any industry\, in any market\, against any competition\, in any economic situation.</p>\n\n<p style="text-align:center"><strong><em>Business owners who want a cohesive team&nbsp\;</em></strong><strong><em>will walk away knowing:</em></strong></p>\n\n<ul>\n	<li>How to identify dysfunctions in your team.</li>\n	<li>5 Keys to conquer team dysfunction.</li>\n	<li>What four people every organization should hire.</li>\n	<li>Why increasing individual ownership puts you at an advantage.</li>\n</ul>\n\n<p style="text-align:center"><strong>NOW is the time to say YES to your business!</strong></p>\n\n<p style="text-align:center"><strong>Clear Direction. &nbsp\;Focused Action. &nbsp\;Real Results.</strong></p>\n
LOCATION:ActionCOACH MN - North Campus 11188 Zealand Ave N\, Champlin\, Minnesota\, 55316\, United States
UID:e.380.182609
SEQUENCE:3
DTSTAMP:20260420T230501Z
URL:http://members.metronorthchamber.org/events/details/transform-your-team-182609
END:VEVENT

END:VCALENDAR
