BEGIN:VCALENDAR
VERSION:2.0
PRODID:-//ChamberMaster//Event Calendar 2.0//EN
METHOD:PUBLISH
X-PUBLISHED-TTL:P3D
REFRESH-INTERVAL:P3D
CALSCALE:GREGORIAN
BEGIN:VEVENT
DTSTART;VALUE=DATE:20160718
DTEND;VALUE=DATE:20160719
TRANSP:TRANSPARENT
X-MICROSOFT-CDO-ALLDAYEVENT:TRUE
SUMMARY:TPC Twin Cities Community Golf Day
DESCRIPTION:TPC Twin Cities Guest Day- All Community Invited to Enjoy a PGA TOUR Golf Event Experience\n\nEnjoy a fun day of golf with friends\, collegues or clients at TPC Twin Cities-  Host of the 3M Championship\n\n\n\nTee Times available from 9am-3pm\n\n$100 golf and car fee *tax applies-  Bring payment on day of event\n\n$15 lunch buffet available from 10-4pm\n\n\n\nCash Bar & Beverage Car Service Available\n\n\n\ntpctwincities.com\n\n763-795-0816- TPC Twin Cities Golf Shop-  Ask for available tee times\n\nSee you there!\n\n\n\n11444 Tournament Players Parkway\n\nBlaine\, MN 55449
X-ALT-DESC;FMTTYPE=text/html:<br />\nTPC Twin Cities Guest Day- All Community Invited to Enjoy a PGA TOUR Golf Event Experience<br />\nEnjoy a fun day of golf with friends\, collegues or clients at TPC Twin Cities- &nbsp\;Host of the 3M Championship<br />\n<br />\nTee Times available from 9am-3pm<br />\n$100 golf and car fee<em>&nbsp\;*tax applies- &nbsp\;Bring payment on day of event</em><br />\n$15 lunch buffet available from 10-4pm<br />\n<br />\nCash Bar &amp\; Beverage Car Service Available<br />\n<br />\ntpctwincities.com<br />\n763-795-0816- TPC Twin Cities Golf Shop- &nbsp\;Ask for available tee times<br />\nSee you there!<br />\n<br />\n11444 Tournament Players Parkway<br />\nBlaine\, MN 55449<br />\n<br />\n<br />\n&nbsp\;
LOCATION:11444 Tournament Players Parkway Blaine\, MN 55449
UID:e.380.168473
SEQUENCE:3
DTSTAMP:20260422T101810Z
URL:http://members.metronorthchamber.org/events/details/tpc-twin-cities-community-golf-day-07-18-2016-168473
END:VEVENT

END:VCALENDAR
