BEGIN:VCALENDAR
VERSION:2.0
PRODID:-//ChamberMaster//Event Calendar 2.0//EN
METHOD:PUBLISH
X-PUBLISHED-TTL:P3D
REFRESH-INTERVAL:P3D
CALSCALE:GREGORIAN
BEGIN:VEVENT
DTSTART:20140220T173000Z
DTEND:20140220T190000Z
X-MICROSOFT-CDO-ALLDAYEVENT:FALSE
SUMMARY:TPC Lunch and Learn with Jack Mackenzie
DESCRIPTION:Come join us at TPC Twin Cities for our February Lunch and Learn. This particular meeting will be a networking event with lunch and a brief forum with Jack Mackenzie\, the Executive Director of the Minnesota Golf Course Superintendent Assosication.  Jack will be speaking on the issue of water\, and specifically how it will effect golf courses.  He will also talk on how we can be proactive on the situation.
X-ALT-DESC;FMTTYPE=text/html:Come join us at TPC Twin Cities for our February Lunch and Learn. This particular meeting will be a networking event with lunch and a brief forum with Jack Mackenzie\, the Executive Director of the Minnesota Golf Course Superintendent Assosication.&nbsp\; Jack will be speaking on the issue of water\, and specifically how it will effect golf courses.&nbsp\; He will also talk on how we can be proactive on the situation.
LOCATION:TPC Twin Cities 11444 Tournament Players Pkwy Blaine\, MN 55449
UID:e.380.150133
SEQUENCE:3
DTSTAMP:20260424T075311Z
URL:http://members.metronorthchamber.org/events/details/tpc-lunch-and-learn-with-jack-mackenzie-02-20-2014-150133
END:VEVENT

END:VCALENDAR
