BEGIN:VCALENDAR
VERSION:2.0
PRODID:-//ChamberMaster//Event Calendar 2.0//EN
METHOD:PUBLISH
X-PUBLISHED-TTL:P3D
REFRESH-INTERVAL:P3D
CALSCALE:GREGORIAN
BEGIN:VEVENT
DTSTART:20120618T163000Z
DTEND:20120618T233000Z
X-MICROSOFT-CDO-ALLDAYEVENT:FALSE
SUMMARY:TPC hosting 12th Annual Blaine/Ham Lake Rotary Club Golf Tournament
DESCRIPTION:The TPC is hosting the 12th Annual Blaine/Ham Lake Rotary Club Golf Tournament on June 18th. The Rotary Club is partnering with the Spring Lake Park School District's Panther Foundation for this year's tournament. The purpose of the Panther Foundation is to enrich educational experiences for the nearly 5\,000 students within the Spring Lake Park School District\, serving the Blaine\, Spring Lake Park and Fridley communities. Support for the Foundation comes entirely through contributions and special projects. Those contributions are turned into grant awards for innovative projects by staff\, parents\, students and the community.\n\n\n\nSpace is limited and the 2011 tournament filled quickly so sign up today. It's a great way for you to meet and network with other members of the community while playing this private course. Remember proper golf attire is required.\n\n\n\nAll Players Enjoy\n\n  18 Holes of Golf with Cart\n\n  Unlimited Range Balls\n\n  Exciting Contest Holes with Prizes\n\n  Goodie Bag\n\n  Silent Auction\n\n  Dinner\n\n  Raffle\n\n\n\nGolf Packages\n\nFoursome (before June 1st) ....................... $750.00\n\n(after June 1st) ........................... $800.00\n\nIndividual Golfer (will be grouped) ............ $195.00\n\n\n\nBirdie Sponsorship $1500\n\n  Company Name on Signage at Driving Range\n\n  Company Name on Signage on One Hole on Course\n\n  Foursome & Party Package\n\n  Recognition at Event Dinner and in Program\n\n\n\nPar Sponsorship $1250\n\n  Company Name on Signage at Putting Green\n\n  Company Name on Signage on One Hole on Course\n\n  Foursome\n\n  Recognition at Event Dinner and in Program\n\n\n\nBeverage Cart Sponsorship $500\n\n  Two company representatives can ride with TPC attendants on the bev carts\n\n  Recognition in Program\n\n\n\nBogie Sponsorship $200\n\n  Company Name on Signage at One Hole on Course\n\n  Opportunity to provide rep and advertise business\n\n  Recognition in Program\n\n\n\n*All sponsors are welcome to have company representatives on the course. You are more than welcome to greet and distribute your company's information to all participants. Table and chairs can be rented through TPC\, let us know if you are interested. Provide a contest or entertainment on the course and you will receive a $50 discount on sponsorship!
X-ALT-DESC;FMTTYPE=text/html:The TPC is hosting the 12th Annual Blaine/Ham Lake Rotary Club Golf Tournament on June 18th. The Rotary Club is partnering with the Spring Lake Park School District&rsquo\;s Panther Foundation for this year&rsquo\;s tournament. The purpose of the Panther Foundation is to enrich educational experiences for the nearly 5\,000 students within the Spring Lake Park School District\, serving the Blaine\, Spring Lake Park and Fridley communities. Support for the Foundation comes entirely through contributions and special projects. Those contributions are turned into grant awards for innovative projects by staff\, parents\, students and the community.<br />\n<br />\nSpace is limited and the 2011 tournament filled quickly so sign up today. It&rsquo\;s a great way for you to meet and network with other members of the community while playing this private course. Remember proper golf attire is required.<br />\n<br />\nAll Players Enjoy<br />\n&bull\; 18 Holes of Golf with Cart<br />\n&bull\; Unlimited Range Balls<br />\n&bull\; Exciting Contest Holes with Prizes<br />\n&bull\; Goodie Bag<br />\n&bull\; Silent Auction<br />\n&bull\; Dinner<br />\n&bull\; Raffle<br />\n<br />\nGolf Packages<br />\nFoursome (before June 1st) ....................... $750.00<br />\n(after June 1st) ........................... $800.00<br />\nIndividual Golfer (will be grouped) ............ $195.00<br />\n<br />\nBirdie Sponsorship $1500<br />\n&bull\; Company Name on Signage at Driving Range<br />\n&bull\; Company Name on Signage on One Hole on Course<br />\n&bull\; Foursome &amp\; Party Package<br />\n&bull\; Recognition at Event Dinner and in Program<br />\n<br />\nPar Sponsorship $1250<br />\n&bull\; Company Name on Signage at Putting Green<br />\n&bull\; Company Name on Signage on One Hole on Course<br />\n&bull\; Foursome<br />\n&bull\; Recognition at Event Dinner and in Program<br />\n<br />\nBeverage Cart Sponsorship $500<br />\n&bull\; Two company representatives can ride with TPC attendants on the bev carts<br />\n&bull\; Recognition in Program<br />\n<br />\nBogie Sponsorship $200<br />\n&bull\; Company Name on Signage at One Hole on Course<br />\n&bull\; Opportunity to provide rep and advertise business<br />\n&bull\; Recognition in Program<br />\n<br />\n*All sponsors are welcome to have company representatives on the course. You are more than welcome to greet and distribute your company&rsquo\;s information to all participants. Table and chairs can be rented through TPC\, let us know if you are interested. Provide a contest or entertainment on the course and you will receive a $50 discount on sponsorship!<br />\n<br />\n
LOCATION:TPC Twin Cities 11444 Tournament Players Pkwy Blaine
UID:e.380.145196
SEQUENCE:3
DTSTAMP:20260425T162118Z
URL:http://members.metronorthchamber.org/events/details/tpc-hosting-12th-annual-blaine-ham-lake-rotary-club-golf-tournament-06-18-2012-145196
END:VEVENT

END:VCALENDAR
