BEGIN:VCALENDAR
VERSION:2.0
PRODID:-//ChamberMaster//Event Calendar 2.0//EN
METHOD:PUBLISH
X-PUBLISHED-TTL:P3D
REFRESH-INTERVAL:P3D
CALSCALE:GREGORIAN
BEGIN:VEVENT
DTSTART;VALUE=DATE:20131123
DTEND;VALUE=DATE:20131221
TRANSP:TRANSPARENT
X-MICROSOFT-CDO-ALLDAYEVENT:TRUE
SUMMARY:Toys for Tots Drive at Custom Fireplace and Chimney Care
DESCRIPTION:Custom Fireplace and Chimney Care is proud to be a drop site for Toys for Tots.  Anyone who wants to donate a new\, unwrapped toy to Toys for Tots may drop it off at our store any time we are open.  The store is open from 10:00 to 7:00 Monday through Thursday\, and from 10:00 to 4:00 Friday through Sunday.  Please help us make a difference in a child's life.
X-ALT-DESC;FMTTYPE=text/html:Custom Fireplace and Chimney Care is proud to be a drop site for Toys for Tots.&nbsp\; Anyone who wants to donate a new\, unwrapped toy to Toys for Tots may drop it off at our store any time we are open.&nbsp\; The store is open from 10:00 to 7:00 Monday through Thursday\, and from 10:00 to 4:00 Friday through Sunday.&nbsp\; Please help us make a&nbsp\;difference in a child&#39\;s life. &nbsp\;<br />\n
LOCATION:Custom Fireplace and Chimney Care 9696 University Ave NW Coon Rapids\, MN 55448
UID:e.380.149925
SEQUENCE:3
DTSTAMP:20260424T125229Z
URL:http://members.metronorthchamber.org/events/details/toys-for-tots-drive-at-custom-fireplace-and-chimney-care-11-23-2013-149925
END:VEVENT

END:VCALENDAR
