BEGIN:VCALENDAR
VERSION:2.0
PRODID:-//ChamberMaster//Event Calendar 2.0//EN
METHOD:PUBLISH
X-PUBLISHED-TTL:P3D
REFRESH-INTERVAL:P3D
CALSCALE:GREGORIAN
BEGIN:VEVENT
DTSTART:20161205T230000Z
DTEND:20161206T020000Z
X-MICROSOFT-CDO-ALLDAYEVENT:FALSE
SUMMARY:Toys For Joy Community Impact Fundraising Event
DESCRIPTION:Community Impact Fundraising Event To Benefit Toys For Joy
X-ALT-DESC;FMTTYPE=text/html:<span style="font-family:arial\;"><span style="color:#0000CC\;"><span style="font-size:14px\;"><strong>Community Impact Fundraising Event To Benefit Toys For Joy</strong></span></span></span><br />\n<br />\n<br />\n&nbsp\;
LOCATION:Andover Pizza Ranch 13797 Jay Street NW Andover\, MN 55304
UID:e.380.170172
SEQUENCE:3
DTSTAMP:20260422T000105Z
URL:http://members.metronorthchamber.org/events/details/toys-for-joy-community-impact-fundraising-event-170172
END:VEVENT

END:VCALENDAR
