BEGIN:VCALENDAR
VERSION:2.0
PRODID:-//ChamberMaster//Event Calendar 2.0//EN
METHOD:PUBLISH
X-PUBLISHED-TTL:P3D
REFRESH-INTERVAL:P3D
CALSCALE:GREGORIAN
BEGIN:VEVENT
DTSTART:20150401T230000Z
DTEND:20150402T000000Z
X-MICROSOFT-CDO-ALLDAYEVENT:FALSE
SUMMARY:Town Hall in Blaine
DESCRIPTION:Otsego\, Minn. -- Congressman Tom Emmer (MN-06) announced today that he will host a town hall in Blaine\, Minnesota on April 1. \n\n \n\n"My staff and I strive to be transparent\, accountable\, and most importantly--accessible\," said Emmer. "This is an opportunity for my constituents to ask me questions about the issues that matter most to them and to hear from me directly about my work in Congress."
X-ALT-DESC;FMTTYPE=text/html:<span style="font-size:14px\;"><span style="color:#605D69\;"><span style="font-family:arial\;">Otsego\, Minn. -- Congressman Tom Emmer (MN-06) announced today that he will host a town hall in Blaine\, Minnesota on April 1.&nbsp\;</span></span><br />\n&nbsp\;<br />\n<span style="color:#605D69\;"><span style="font-family:arial\;">&quot\;My staff and I strive to be transparent\, accountable\, and most importantly--accessible\,&quot\; said Emmer. &quot\;This is&nbsp\;an opportunity for my constituents to ask me questions about the issues that matter most to them and to hear from me directly about my work in Congress.&quot\;</span></span></span><br />\n&nbsp\;
LOCATION:Blaine City Hall\, 10801 Town Square Dr. NE
UID:e.380.157261
SEQUENCE:3
DTSTAMP:20260423T095308Z
URL:http://members.metronorthchamber.org/events/details/town-hall-in-blaine-04-01-2015-157261
END:VEVENT

END:VCALENDAR
