BEGIN:VCALENDAR
VERSION:2.0
PRODID:-//ChamberMaster//Event Calendar 2.0//EN
METHOD:PUBLISH
X-PUBLISHED-TTL:P3D
REFRESH-INTERVAL:P3D
CALSCALE:GREGORIAN
BEGIN:VEVENT
DTSTART:20171003T213000Z
DTEND:20171003T230000Z
X-MICROSOFT-CDO-ALLDAYEVENT:FALSE
SUMMARY:Tour-Mate Precision Tooling
DESCRIPTION:Come anytime between 4:30-6:00 pm and see first-hand the world of manufacturing and the career choices it has to offer.\n\n\n\nStay for pizza and refreshments after the tour\, and have a chance to ask questions. This may be the career you have been looking for!\n\n\n\nRSVP to the Mate Precision Tooling Tour\n\nTuesday\, October 3\, 4:30-6:00 pm
X-ALT-DESC;FMTTYPE=text/html:<span style="color: rgb(51\, 51\, 51)\; font-family: sans-serif\, Arial\, Verdana\, " trebuchet="">Come anytime between 4:30-6:00 pm and see first-hand the world of manufacturing and the career choices it has to offer.</span><br />\n<br />\nStay for pizza and refreshments after the tour\, and have a chance to ask questions. This may be the career you have been looking for!<br />\n<br />\n<span style="font-size: 18px\;"><u><strong><a href="https://www.eventbrite.com/e/mate-precision-tooling-tour-tickets-37341184488?aff=utm_source%3Deb_email%26utm_medium%3Demail%26utm_campaign%3Dnew_event_email&amp\;utm_term=eventurl_text"><span style="color: rgb(0\, 0\, 255)\;">RSVP</span></a></strong></u>&nbsp\;to the Mate Precision Tooling Tour<br />\nTuesday\, October 3\, 4:30-6:00 pm</span><br style="line-height: 20.8px\;" />\n<br style="line-height: 20.8px\;" />\n&nbsp\;
LOCATION:Mate Precision Tooling 1295 Lund Boulevard Anoka 55303
UID:e.380.176460
SEQUENCE:3
DTSTAMP:20260421T082035Z
URL:http://members.metronorthchamber.org/events/details/tour-mate-precision-tooling-176460
END:VEVENT

END:VCALENDAR
