BEGIN:VCALENDAR
VERSION:2.0
PRODID:-//ChamberMaster//Event Calendar 2.0//EN
METHOD:PUBLISH
X-PUBLISHED-TTL:P3D
REFRESH-INTERVAL:P3D
CALSCALE:GREGORIAN
BEGIN:VEVENT
DTSTART:20171004T213000Z
DTEND:20171004T230000Z
X-MICROSOFT-CDO-ALLDAYEVENT:FALSE
SUMMARY:Tour-Green Bay Packaging
DESCRIPTION:Who makes these boxes anyway?? Students\, parents and the general public are invited to see the process\, from making the corrugated to the finished product. Come anytime between 4:30-6:00 pm and see first-hand the world of manufacturing and the career choices it has to offer.\n\n\n\nStay for pizza and refreshments after the tour\, and have a chance to ask questions. This may be the career you have been looking for!\n\n\n\nRSVP to the Green Bay Packaging Tour\n\nWednesday\, October 4\, 4:30-6:00 pm
X-ALT-DESC;FMTTYPE=text/html:<span background-color:="" font-size:="" line-height:="" style="color: rgb(51\, 51\, 51)\; font-family: sans-serif\, Arial\, Verdana\, " trebuchet="">Who makes these boxes anyway?? Students\, parents and the general public are invited to see the process\, from making the corrugated to the finished product. Come anytime between 4:30-6:00 pm and see first-hand the world of manufacturing and the career choices it has to offer.</span><br />\n<br />\nStay for pizza and refreshments after the tour\, and have a chance to ask questions. This may be the career you have been looking for!<br />\n<br />\n<span style="font-size: 18px\;"><u><strong><a href="https://www.eventbrite.com/e/green-bay-packaging-tour-tickets-37341671946?aff=utm_source%3Deb_email%26utm_medium%3Demail%26utm_campaign%3Dnew_event_email&amp\;utm_term=eventurl_text"><span style="color: rgb(0\, 0\, 255)\;">RSVP</span></a></strong></u>&nbsp\;to the Green Bay Packaging Tour<br />\nWednesday\, October 4\, 4:30-6:00 pm</span><br style="line-height: 20.8px\;" />\n<br style="line-height: 20.8px\;" />\n&nbsp\;
LOCATION:Green Bay Packaging\, Inc. 555 87th Lane NW Coon Rapids 55433
UID:e.380.176719
SEQUENCE:3
DTSTAMP:20260421T093805Z
URL:http://members.metronorthchamber.org/events/details/tour-green-bay-packaging-176719
END:VEVENT

END:VCALENDAR
