BEGIN:VCALENDAR
VERSION:2.0
PRODID:-//ChamberMaster//Event Calendar 2.0//EN
METHOD:PUBLISH
X-PUBLISHED-TTL:P3D
REFRESH-INTERVAL:P3D
CALSCALE:GREGORIAN
BEGIN:VEVENT
DTSTART:20171005T213000Z
DTEND:20171005T230000Z
X-MICROSOFT-CDO-ALLDAYEVENT:FALSE
SUMMARY:Tour-Aggressive Hydraulics
DESCRIPTION:Students\, parents and the general public are invited. Come anytime between 4:30-6:00 pm and see first-hand the world of hydraulic manufacturing and the career choices it has to offer. \n\n\n\nStay for pizza and refreshments after the tour\, and have a chance to ask questions. This may be the career you have been looking for!\n\n\n\nRSVP to the Aggressive Hydraulics Tour \n\nThursday\, October 5\, 4:30-6:00 pm
X-ALT-DESC;FMTTYPE=text/html:<span style="color: rgb(51\, 51\, 51)\; font-family: sans-serif\, Arial\, Verdana\, ">Students\, parents and the general public are invited. Come anytime between 4:30-6:00 pm and see first-hand the world of hydraulic manufacturing and the career choices it has to offer.&nbsp\;</span><br />\n<br />\n<span background-color:="" font-size:="" helvetica="" style="font-family: ">Stay for pizza and refreshments after the tour\, and have a chance to ask questions. This may be the career you have been looking for!</span><br />\n<br />\n<span style="font-size:18px\;"><u><strong><a href="https://www.eventbrite.com/e/aggressive-hydraulics-tour-tickets-37342286785?aff=utm_source%3Deb_email%26utm_medium%3Demail%26utm_campaign%3Dnew_event_email&amp\;utm_term=eventurl_text"><span style="color:#0000FF\;">RSVP </span></a></strong></u>to the Aggressive Hydraulics Tour&nbsp\;<br />\nThursday\, October 5\, 4:30-6:00 pm</span><br />\n<br />\n&nbsp\;
LOCATION:Aggressive Hydraulics 18800 Ulysses Street NE Cedar (East Bethel) 55011
UID:e.380.176461
SEQUENCE:3
DTSTAMP:20260423T091430Z
URL:http://members.metronorthchamber.org/events/details/tour-aggressive-hydraulics-176461
END:VEVENT

END:VCALENDAR
