BEGIN:VCALENDAR
VERSION:2.0
PRODID:-//ChamberMaster//Event Calendar 2.0//EN
METHOD:PUBLISH
X-PUBLISHED-TTL:P3D
REFRESH-INTERVAL:P3D
CALSCALE:GREGORIAN
BEGIN:VEVENT
DTSTART:20130503T130000Z
DTEND:20130503T210000Z
X-MICROSOFT-CDO-ALLDAYEVENT:FALSE
SUMMARY:Toilet Pong at Anoka Diva Days!
DESCRIPTION:Terry Overacker Plumbing presents Toilet Pong at Anoka Diva Days! Come on by and play toilet pong between 8am-4pm for your chance to win a great prize!
X-ALT-DESC;FMTTYPE=text/html:Terry Overacker Plumbing presents Toilet Pong at Anoka Diva Days! Come on by and play toilet pong between 8am-4pm for your chance to win a great prize!
LOCATION:Terry Overacker Plumbing 502 E Main Street Anoka\, MN 55304
UID:e.380.148931
SEQUENCE:3
DTSTAMP:20260425T002443Z
URL:http://members.metronorthchamber.org/events/details/toilet-pong-at-anoka-diva-days-05-03-2013-148931
END:VEVENT

END:VCALENDAR
