BEGIN:VCALENDAR
VERSION:2.0
PRODID:-//ChamberMaster//Event Calendar 2.0//EN
METHOD:PUBLISH
X-PUBLISHED-TTL:P3D
REFRESH-INTERVAL:P3D
CALSCALE:GREGORIAN
BEGIN:VEVENT
DTSTART:20140620T150000Z
DTEND:20140622T230000Z
X-MICROSOFT-CDO-ALLDAYEVENT:FALSE
SUMMARY:Today's Window Fashions Grand Opening Weekend!
DESCRIPTION:We welcome everyone to check out our new Showroom in Andover! Enjoy free food and beverages\, drawing to win an Ipad mini\, Twins tickets\, or a free shade! Door prizes for everyone! Stop by any one of three days that weekend! Know anyone moving into a new home or office? Tell them to mention your name and recieve a referral reward! Specials include free literise(cordless lift) upgrades on all honeycomb shades\, wood blinds\, and vignette modern roman shades if you schedule a free in home consultation from our showroom anytime! Save hundreds on Hunter Duglas Products! 25% off all Horizon B&W Products! Can't make it in? Like our Facebook page for a chance to win an Ipad mini!
X-ALT-DESC;FMTTYPE=text/html:We welcome everyone to&nbsp\;check out our new Showroom in Andover! Enjoy free food and beverages\, drawing to win an Ipad mini\, Twins tickets\,&nbsp\;or a free shade! Door prizes for everyone! Stop by any one of three days that weekend! Know anyone moving into a new home or office?&nbsp\;Tell them to mention your name and recieve a referral reward! Specials include free literise(cordless lift)&nbsp\;upgrades on all honeycomb shades\, wood blinds\, and vignette modern roman shades if you schedule a free in home consultation from&nbsp\;our showroom anytime!&nbsp\;Save hundreds on Hunter Duglas Products! 25% off all Horizon B&amp\;W Products!&nbsp\;Can&#39\;t make it in? Like our Facebook page for a chance to win an Ipad mini!
LOCATION:Today's Window Fashions Showroom 13416 Hanson Blvd NW Andover\, MN 55304 Located 1 block South of Bunker Lake RD on Hanson Blvd. Enter from Station Pkwy.
UID:e.380.151380
SEQUENCE:3
DTSTAMP:20260424T012744Z
URL:http://members.metronorthchamber.org/events/details/today-s-window-fashions-grand-opening-weekend-06-20-2014-151380
END:VEVENT

END:VCALENDAR
