BEGIN:VCALENDAR
VERSION:2.0
PRODID:-//ChamberMaster//Event Calendar 2.0//EN
METHOD:PUBLISH
X-PUBLISHED-TTL:P3D
REFRESH-INTERVAL:P3D
CALSCALE:GREGORIAN
BEGIN:VEVENT
DTSTART;VALUE=DATE:20180621
DTEND;VALUE=DATE:20180622
TRANSP:TRANSPARENT
X-MICROSOFT-CDO-ALLDAYEVENT:TRUE
SUMMARY:Thursday June 21st – our Sally Up Summer Solstice Party! !
DESCRIPTION:Come for a 30 min workout then party
X-ALT-DESC;FMTTYPE=text/html:Come for a 30 min workout then party
LOCATION:Anytime Fitness 1460 133rd Lane NE Ham Lake
UID:e.380.185402
SEQUENCE:3
DTSTAMP:20260420T200413Z
URL:http://members.metronorthchamber.org/events/details/thursday-june-21st-our-sally-up-summer-solstice-party-185402
END:VEVENT

END:VCALENDAR
