BEGIN:VCALENDAR
VERSION:2.0
PRODID:-//ChamberMaster//Event Calendar 2.0//EN
METHOD:PUBLISH
X-PUBLISHED-TTL:P3D
REFRESH-INTERVAL:P3D
CALSCALE:GREGORIAN
BEGIN:VEVENT
DTSTART:20161002T000000Z
DTEND:20161002T040000Z
X-MICROSOFT-CDO-ALLDAYEVENT:FALSE
SUMMARY:Thompson Square Live at Running Aces
DESCRIPTION:Come on up and experience Thompson Square at Running Aces on October 1st. \n\n\n\nDoors Open at 6pm \n\n\n\nTickets: \n\nGeneral Admission - $35 \n\nPremium Standing Room - $50 (GA ticket with access to premier standing room in front of stage) \n\nVIP Party Pack - $50 (Ticket for reserved picnic table seat - 8 seats/table\, Miller Lite) \n\nVIP Meet & Greet - $150 (Premium Standing Room ticket and Meet & Greet with Thompson Square) \n\n\n\nRain or shine. All ages. Tickets are limited and non-refundable
X-ALT-DESC;FMTTYPE=text/html:<span style="color:rgb(125\, 125\, 125)\; font-family:helvetica\,arial\,sans-serif\; font-size:17px">Come on up and experience Thompson Square at Running Aces on October 1st.&nbsp\;</span><br />\n<br />\n<span style="color:rgb(125\, 125\, 125)\; font-family:helvetica\,arial\,sans-serif\; font-size:17px">Doors Open at 6pm&nbsp\;</span><br />\n<br />\n<span style="color:rgb(125\, 125\, 125)\; font-family:helvetica\,arial\,sans-serif\; font-size:17px">Tickets:&nbsp\;</span><br />\n<span style="color:rgb(125\, 125\, 125)\; font-family:helvetica\,arial\,sans-serif\; font-size:17px">General Admission - $35&nbsp\;</span><br />\n<span style="color:rgb(125\, 125\, 125)\; font-family:helvetica\,arial\,sans-serif\; font-size:17px">Premium Standing Room - $50 (GA ticket with access to premier standing room in front of stage)&nbsp\;</span><br />\n<span style="color:rgb(125\, 125\, 125)\; font-family:helvetica\,arial\,sans-serif\; font-size:17px">VIP Party Pack - $50 (Ticket for reserved picnic table seat - 8 seats/table\, Miller Lite)&nbsp\;</span><br />\n<span style="color:rgb(125\, 125\, 125)\; font-family:helvetica\,arial\,sans-serif\; font-size:17px">VIP Meet &amp\; Greet - $150 (Premium Standing Room ticket and Meet &amp\; Greet with Thompson Square)&nbsp\;</span><br />\n<br />\n<span style="color:rgb(125\, 125\, 125)\; font-family:helvetica\,arial\,sans-serif\; font-size:17px">Rain or shine. All ages. Tickets are limited and non-refundable</span>
LOCATION:Running Aces Casino & Racetrack
UID:e.380.169159
SEQUENCE:3
DTSTAMP:20260422T033232Z
URL:http://members.metronorthchamber.org/events/details/thompson-square-live-at-running-aces-08-20-2016-169159
END:VEVENT

END:VCALENDAR
