BEGIN:VCALENDAR
VERSION:2.0
PRODID:-//ChamberMaster//Event Calendar 2.0//EN
METHOD:PUBLISH
X-PUBLISHED-TTL:P3D
REFRESH-INTERVAL:P3D
CALSCALE:GREGORIAN
BEGIN:VEVENT
DTSTART:20140506T213000Z
DTEND:20140506T233000Z
X-MICROSOFT-CDO-ALLDAYEVENT:FALSE
SUMMARY:Think and Grow Rich Plus Business Success Workshop
DESCRIPTION:SUCCESS CAN BE YOURS!\n\n\nIt is really quite easy to create what you want in life by using the unchanging laws of success. "Think and Grow Rich" by Napoleon Hill contains all of the secrets to these laws. The secrets are in the formulas that are throughout the book. For example\, the six step formula will give you a system to receive anything you desire.\n\n\n\nThese formulas if followed will bring you the success that you have seen others achieve. If you learn and apply the formulas you will have mastered the secret of true and lasting success. You will be able to have whatever it is that you want. Anyone at any age can use the formulas\, it's that simple!\n\n \n\nThe Workshop is Open on Tuesday's in April and May 2014\n\n\n\nRasmussen College - Blaine Campus\n\nTuesday's\n\n4:30 PM - 6:30 PM\n\n\n\nYou will be able to attend one or all of the sessions!\n\nOf course the more sessions you attend and learn how to activate the formulas the better!\n\n\n\nOnly $20.00/Session\n\nThe Workshop Includes Guided Exercises & Worksheets to Activate the Formulas\n\n\n	Master the Six Step Formula\n	Create Your Own Unique Self Confidence Formula\n	Understand and Use the Autosuggestion Formula\n	Generate Your Specialized Knowledge Formula\n	Engage and Learn to use the Imagination Formula\n	Creating Your Wealth Using the Formulas All Together\n\n\nReceive Additional Bonus Material\n\n\n\nBonus #1 - Weekly Inspiration\nYou will receive weekly insights and encouragement to help you stay motivated and inspired throughout the week.  Including additional worksheets\, podcasts and videos to help you to incorporate the formulas regularly in your daily activities.\n\nBonus #2 - Modeling for Success\nAs an added bonus you will receive Modeling for Success\, the full formula to turbo boost your work with the formulas in the book and your results.\n\nBonus #3 - Free Success Coaching\nRegister today and receive a 1/2 hour free success coaching session that will focus specifically on achieving your goals that will lead you to success.\n\n\n\n\n\nIf you answer "yes" to the questions below you will benefit from joining this workshop!\n\n\n	Are you frustrated with your inability to create the kind of income and success you have longed for?\n	Are unsure of how to take the action you need in order to get yourself to the next level of success?\n	Are you wondering why it is difficult for you and easy for others to create what they want\, when they want it?\n\n\n\n\n\nTo Register for the Workshop contact Lisa@ConnectMySuccess.com - Feel free to join us during any week!
X-ALT-DESC;FMTTYPE=text/html:<div style="text-align: center\;"><br />\n<span style="font-size:24px\;"><strong><span style="background-color: yellow\;"><u>SUCCESS CAN BE YOURS!</u></span></strong></span></div>\n<br />\n<span style="font-size:14px\;">It is really quite easy to create what you want in life by using the unchanging laws of success. <span style="background-color:yellow\;"><strong>&quot\;Think and Grow Rich&quot\; by Napoleon Hill </strong></span>contains all of the secrets to these laws. The secrets are in the formulas that are throughout the book. For example\, the six step formula will give you a system to receive anything you desire.<br />\n<br />\nThese formulas if followed will <span style="background-color:yellow\;"><u><strong>bring you the success</strong></u></span> that you have seen others achieve. If you learn and apply the formulas you will have mastered the secret of true and lasting success. You will be able to have whatever it is that you want. Anyone at any age can use the formulas\, it&#39\;s that simple!</span>\n\n<div style="text-align: center\;">&nbsp\;</div>\n\n<div style="text-align: center\;"><span style="font-size:14px\;"><u><span style="font-size:16px\;"><strong>The Workshop is Open on Tuesday&#39\;s in April and May 2014</strong></span></u><br />\n<br />\n<strong>Rasmussen College - Blaine Campus<br />\nTuesday&#39\;s<br />\n4:30 PM - 6:30 PM<br />\n<br />\nYou will be able to attend one or all of the sessions!<br />\nOf course the more sessions you attend and learn how to activate the formulas the better!</strong><br />\n<br />\n<u><strong>Only $20.00/Session</strong></u></span></div>\n\n<h3 style="color:blue\;"><span style="font-size:14px\;"><strong><u>The Workshop Includes Guided Exercises &amp\; Worksheets to Activate the Formulas</u></strong></span></h3>\n\n<ul>\n	<li><span style="font-size:14px\;">Master the Six Step Formula</span></li>\n	<li><span style="font-size:14px\;">Create Your Own Unique Self Confidence Formula</span></li>\n	<li><span style="font-size:14px\;">Understand and Use the Autosuggestion Formula</span></li>\n	<li><span style="font-size:14px\;">Generate Your Specialized Knowledge Formula</span></li>\n	<li><span style="font-size:14px\;">Engage and Learn to use the Imagination Formula</span></li>\n	<li><span style="font-size:14px\;">Creating Your Wealth Using the Formulas All Together</span></li>\n</ul>\n\n<h2><span style="font-size:14px\;"><u>Receive Additional Bonus Material</u></span></h2>\n\n<h3 style="color:blue\;"><br />\n<span style="font-size:14px\;"><span style="background-color:yellow\;"><strong>Bonus #1 - Weekly Inspiration</strong></span></span></h3>\n<span style="font-size:14px\;">You will receive weekly insights and encouragement to help you stay motivated and inspired throughout the week.&nbsp\; Including additional worksheets\, podcasts and videos to help you to incorporate the formulas regularly in your daily activities.</span>\n\n<h3 style="color:blue\;"><span style="font-size:14px\;"><span style="background-color:yellow\;"><strong>Bonus #2 - Modeling for Success</strong></span></span></h3>\n<span style="font-size:14px\;">As an added bonus you will receive Modeling for Success\, the full formula to turbo boost your work with the formulas in the book and your results.</span>\n\n<h3 style="color:blue\;"><span style="font-size:14px\;"><span style="background-color:yellow\;"><strong>Bonus #3 - Free Success Coaching</strong></span></span></h3>\n<span style="font-size:14px\;">Register today and receive a 1/2 hour free success coaching session that will focus specifically on achieving your goals that will lead you to success.<br />\n<br />\n<br />\n<u><strong><big>If you answer &ldquo\;yes&rdquo\; to the questions below you will benefit from joining this workshop!</big></strong></u></span>\n\n<ol>\n	<li><span style="font-size:14px\;">Are you frustrated with your inability to create the kind of income and success you have longed for?</span></li>\n	<li><span style="font-size:14px\;">Are unsure of how to take the action you need in order to get yourself to the next level of success?</span></li>\n	<li><span style="font-size:14px\;">Are you wondering why it is difficult for you and easy for others to create what they want\, when they want it?</span></li>\n</ol>\n<br />\n<br />\n<span style="font-size:14px\;"><span style="font-size:16px\;"><strong>To Register for the Workshop contact Lisa@ConnectMySuccess.com - </strong><em><strong>Feel free to join us during any week!</strong></em></span></span>
LOCATION:Rasmussen College - Blaine Campus
UID:e.380.151291
SEQUENCE:3
DTSTAMP:20260424T030739Z
URL:http://members.metronorthchamber.org/events/details/think-and-grow-rich-plus-business-success-workshop-05-06-2014-151291
END:VEVENT

END:VCALENDAR
