BEGIN:VCALENDAR
VERSION:2.0
PRODID:-//ChamberMaster//Event Calendar 2.0//EN
METHOD:PUBLISH
X-PUBLISHED-TTL:P3D
REFRESH-INTERVAL:P3D
CALSCALE:GREGORIAN
BEGIN:VEVENT
DTSTART:20190910T180000Z
DTEND:20190910T200000Z
X-MICROSOFT-CDO-ALLDAYEVENT:FALSE
SUMMARY:There's No 'I' in Team: HR Basics from Start-Up to 20+ Employees (2-Part Series)
DESCRIPTION:Presented by SCORE St. Paul & People Spark Consulting (MetroNorth Chamber Members!)\nThere's No "I" in Team:\n\nHR Basics When Growing from Start-Up to 20+ Employees\n\nYou've done all the work to get your business up and running\, and you are starting to see the momentum build. Suddenly\, you find yourself starting to overflow and feel the need to bring in your first employee. Or maybe you've had 5 employees the last couple years\, and now see your business ready to expand to the next level. \n\nThen\, you feel that rumble in your gut and the realization that your business's success - and your dream - is more and more in the hands of your employees. \n\nHow do you know when it's time to expand your team? How do you grow from start-up to small business without losing that start-up adrenaline? \n\nJoin us for a FREE\, two-part series "There's No 'I' in Team: HR Basics When Growing from Start-Up to 20+ Employees." \n\n\n\nIn this series\, we'll take you through the key HR actions and considerations for growing your business from a start-up to a mature business with 20 employees. During these two sessions\, we will guide you through ways in which business owners can ensure that their HR and people practices energize their businesses.\n\n Session 1 - September 10th: Culture\, Compliance Basics\, and Recruiting & interviewing\n\n\n\nSession 2 - September 17th: Hiring/Onboarding\, Managing Performance\, Engaging & Retaining Your Employees\n\n\n\nhttp://events.r20.constantcontact.com/register/event?llr=5vk8e5cab&oeidk=a07egioy5jz7383c8e5
X-ALT-DESC;FMTTYPE=text/html:Presented by SCORE St. Paul &amp\; People Spark Consulting (MetroNorth Chamber Members!)\n<p><span style="font-family:calibri\,helvetica\,arial\,sans-serif\; font-size:14pt"><strong>There&rsquo\;s No &ldquo\;I&rdquo\; in Team:</strong><br />\n<strong>HR Basics When Growing from Start-Up to 20+ Employees</strong></span></p>\n\n<p><span style="font-family:calibri\,helvetica\,arial\,sans-serif\; font-size:14pt">You&rsquo\;ve done all the work to get your business up and running\, and you are starting to see the momentum build. Suddenly\, you find yourself starting to overflow and feel the need to bring in your first employee. Or maybe you&rsquo\;ve had 5 employees the last couple years\, and now see your business ready to expand to the next level.&nbsp\;</span></p>\n\n<p><span style="font-family:calibri\,helvetica\,arial\,sans-serif\; font-size:14pt">Then\, you feel that rumble in your gut and the realization that your business&rsquo\;s success - and your dream - is more and more in the hands of your employees.&nbsp\;</span></p>\n\n<p><span style="font-family:calibri\,helvetica\,arial\,sans-serif\; font-size:14pt">How do you know when it&rsquo\;s time to expand your team? How do you grow from start-up to small business without losing that start-up adrenaline?&nbsp\;</span></p>\n\n<p><span style="font-family:calibri\,helvetica\,arial\,sans-serif\; font-size:14pt">Join us for a FREE\, two-part series&nbsp\;<strong>&ldquo\;There&rsquo\;s No &lsquo\;I&rsquo\; in Team: HR Basics When Growing from Start-Up to 20+ Employees.&rdquo\;</strong><strong>&nbsp\;</strong><br />\n<br />\n<span style="color:rgb(128\, 128\, 128)\; font-size:12px"><span style="color:rgb(70\, 70\, 72)\; font-size:14pt">In this series\, we&rsquo\;ll take you through the key HR actions and considerations for growing your business from a start-up to a mature business with 20 employees. During these two sessions\, we will guide you through ways in which business owners can ensure that their HR and people practices energize their businesses.</span></span></span></p>\n\n<p>&nbsp\;<strong><span style="font-family:calibri\,helvetica\,arial\,sans-serif\; font-size:14pt">Session 1 - September 10th:&nbsp\;</span></strong><em>Culture\, Compliance Basics\, and Recruiting &amp\; interviewing</em><br />\n<br />\n<strong><span style="font-family:calibri\,helvetica\,arial\,sans-serif\; font-size:14pt">Session 2 - September 17th:&nbsp\;</span></strong><em>Hiring/Onboarding\, Managing Performance\, Engaging &amp\; Retaining Your Employees</em><br />\n<br />\n<a href="http://events.r20.constantcontact.com/register/event?llr=5vk8e5cab&amp\;oeidk=a07egioy5jz7383c8e5">http://events.r20.constantcontact.com/register/event?llr=5vk8e5cab&amp\;oeidk=a07egioy5jz7383c8e5</a></p>\n
LOCATION:Shoreview Library
UID:e.380.190998
SEQUENCE:3
DTSTAMP:20260419T193602Z
URL:http://members.metronorthchamber.org/events/details/there-s-no-i-in-team-hr-basics-from-start-up-to-20-employees-2-part-series-09-10-2019-190998
END:VEVENT

END:VCALENDAR
