BEGIN:VCALENDAR
VERSION:2.0
PRODID:-//ChamberMaster//Event Calendar 2.0//EN
METHOD:PUBLISH
X-PUBLISHED-TTL:P3D
REFRESH-INTERVAL:P3D
CALSCALE:GREGORIAN
BEGIN:VEVENT
DTSTART:20191116T210000Z
DTEND:20191116T223000Z
X-MICROSOFT-CDO-ALLDAYEVENT:FALSE
SUMMARY:There's a Monster in my Closet Theater Production
DESCRIPTION:Come watch some amazing kids at our theater production!
X-ALT-DESC;FMTTYPE=text/html:Come watch some amazing kids at our theater production!
LOCATION:1138 Bunker Lake Blvd\, Anoka
UID:e.380.191642
SEQUENCE:3
DTSTAMP:20260419T180757Z
URL:http://members.metronorthchamber.org/events/details/there-s-a-monster-in-my-closet-theater-production-191642
END:VEVENT

END:VCALENDAR
